BEGIN:VCALENDAR
VERSION:2.0
PRODID:-//Edlio Inc//Edlio Calendar//EN
CALSCALE:GREGORIAN
METHOD:PUBLISH
X-WR-CALNAME:ACP English I-3rd Spring 2026-3rd Block - Alcoa High School
X-ORIGINAL-URL:https://ahs.alcoaschools.net
X-WR-CALDESC:Events calendar for ahs.alcoaschools.net
X-WR-TIMEZONE:US/Eastern
REFRESH-INTERVAL;VALUE=DURATION:PT1H
X-Robots-Tag:noindex
X-PUBLISHED-TTL:PT1H
BEGIN:VTIMEZONE
TZID:US/Eastern
BEGIN:STANDARD
TZOFFSETFROM:-0400
TZOFFSETTO:-0500
DTSTART:20071104T020000
RRULE:FREQ=YEARLY;BYMONTH=11;BYDAY=1SU
END:STANDARD
BEGIN:DAYLIGHT
TZOFFSETFROM:-0500
TZOFFSETTO:-0400
DTSTART:20070311T020000
RRULE:FREQ=YEARLY;BYMONTH=3;BYDAY=2SU
END:DAYLIGHT
END:VTIMEZONE
BEGIN:VTIMEZONE
TZID:US/East-Indiana
BEGIN:STANDARD
TZOFFSETFROM:-0500
TZOFFSETTO:-0500
DTSTART:19701025T020000
END:STANDARD
END:VTIMEZONE
BEGIN:VTIMEZONE
TZID:US/Eastern
BEGIN:STANDARD
TZOFFSETFROM:-0400
TZOFFSETTO:-0500
DTSTART:19701025T020000
RRULE:FREQ=YEARLY;BYMONTH=10;BYDAY=-1SU;UNTIL=20070311T020000
END:STANDARD
BEGIN:STANDARD
TZOFFSETFROM:-0400
TZOFFSETTO:-0500
DTSTART:20071104T020000
RRULE:FREQ=YEARLY;BYMONTH=11;BYDAY=1SU
END:STANDARD
BEGIN:DAYLIGHT
TZOFFSETFROM:-0500
TZOFFSETTO:-0400
DTSTART:19870405T020000
RRULE:FREQ=YEARLY;BYMONTH=4;BYDAY=1SU;UNTIL=20061029T020000
END:DAYLIGHT
BEGIN:DAYLIGHT
TZOFFSETFROM:-0500
TZOFFSETTO:-0400
DTSTART:20070311T020000
RRULE:FREQ=YEARLY;BYMONTH=3;BYDAY=2SU
END:DAYLIGHT
END:VTIMEZONE
BEGIN:VTIMEZONE
TZID:US/Michigan
BEGIN:STANDARD
TZOFFSETFROM:-0400
TZOFFSETTO:-0500
DTSTART:19701025T020000
RRULE:FREQ=YEARLY;BYMONTH=10;BYDAY=-1SU;UNTIL=20070311T020000
END:STANDARD
BEGIN:STANDARD
TZOFFSETFROM:-0400
TZOFFSETTO:-0500
DTSTART:20071104T020000
RRULE:FREQ=YEARLY;BYMONTH=11;BYDAY=1SU
END:STANDARD
BEGIN:DAYLIGHT
TZOFFSETFROM:-0500
TZOFFSETTO:-0400
DTSTART:19870405T020000
RRULE:FREQ=YEARLY;BYMONTH=4;BYDAY=1SU;UNTIL=20061029T020000
END:DAYLIGHT
BEGIN:DAYLIGHT
TZOFFSETFROM:-0500
TZOFFSETTO:-0400
DTSTART:20070311T020000
RRULE:FREQ=YEARLY;BYMONTH=3;BYDAY=2SU
END:DAYLIGHT
END:VTIMEZONE
BEGIN:VTIMEZONE
TZID:US/Central
BEGIN:STANDARD
TZOFFSETFROM:-0500
TZOFFSETTO:-0600
DTSTART:19701025T020000
RRULE:FREQ=YEARLY;BYMONTH=10;BYDAY=-1SU;UNTIL=20070311T020000
END:STANDARD
BEGIN:STANDARD
TZOFFSETFROM:-0500
TZOFFSETTO:-0600
DTSTART:20071104T020000
RRULE:FREQ=YEARLY;BYMONTH=11;BYDAY=1SU
END:STANDARD
BEGIN:DAYLIGHT
TZOFFSETFROM:-0600
TZOFFSETTO:-0500
DTSTART:19870405T020000
RRULE:FREQ=YEARLY;BYMONTH=4;BYDAY=1SU;UNTIL=20061029T020000
END:DAYLIGHT
BEGIN:DAYLIGHT
TZOFFSETFROM:-0600
TZOFFSETTO:-0500
DTSTART:20070311T020000
RRULE:FREQ=YEARLY;BYMONTH=3;BYDAY=2SU
END:DAYLIGHT
END:VTIMEZONE
BEGIN:VTIMEZONE
TZID:US/Mountain
BEGIN:STANDARD
TZOFFSETFROM:-0600
TZOFFSETTO:-0700
DTSTART:19701025T020000
RRULE:FREQ=YEARLY;BYMONTH=10;BYDAY=-1SU;UNTIL=20070311T020000
END:STANDARD
BEGIN:STANDARD
TZOFFSETFROM:-0600
TZOFFSETTO:-0700
DTSTART:20071104T020000
RRULE:FREQ=YEARLY;BYMONTH=11;BYDAY=1SU
END:STANDARD
BEGIN:DAYLIGHT
TZOFFSETFROM:-0700
TZOFFSETTO:-0600
DTSTART:19870405T020000
RRULE:FREQ=YEARLY;BYMONTH=4;BYDAY=1SU;UNTIL=20061029T020000
END:DAYLIGHT
BEGIN:DAYLIGHT
TZOFFSETFROM:-0700
TZOFFSETTO:-0600
DTSTART:20070311T020000
RRULE:FREQ=YEARLY;BYMONTH=3;BYDAY=2SU
END:DAYLIGHT
END:VTIMEZONE
BEGIN:VTIMEZONE
TZID:US/Arizona
BEGIN:STANDARD
TZOFFSETFROM:-0700
TZOFFSETTO:-0700
DTSTART:19701025T020000
END:STANDARD
END:VTIMEZONE
BEGIN:VTIMEZONE
TZID:US/Pacific
BEGIN:STANDARD
TZOFFSETFROM:-0700
TZOFFSETTO:-0800
DTSTART:19701025T020000
RRULE:FREQ=YEARLY;BYMONTH=10;BYDAY=-1SU;UNTIL=20070311T020000
END:STANDARD
BEGIN:STANDARD
TZOFFSETFROM:-0700
TZOFFSETTO:-0800
DTSTART:20071104T020000
RRULE:FREQ=YEARLY;BYMONTH=11;BYDAY=1SU
END:STANDARD
BEGIN:DAYLIGHT
TZOFFSETFROM:-0800
TZOFFSETTO:-0700
DTSTART:19870405T020000
RRULE:FREQ=YEARLY;BYMONTH=4;BYDAY=1SU;UNTIL=20061029T020000
END:DAYLIGHT
BEGIN:DAYLIGHT
TZOFFSETFROM:-0800
TZOFFSETTO:-0700
DTSTART:20070311T020000
RRULE:FREQ=YEARLY;BYMONTH=3;BYDAY=2SU
END:DAYLIGHT
END:VTIMEZONE
BEGIN:VTIMEZONE
TZID:US/Alaska
BEGIN:STANDARD
TZOFFSETFROM:-0800
TZOFFSETTO:-0900
DTSTART:19701025T020000
RRULE:FREQ=YEARLY;BYMONTH=10;BYDAY=-1SU;UNTIL=20070311T020000
END:STANDARD
BEGIN:STANDARD
TZOFFSETFROM:-0800
TZOFFSETTO:-0900
DTSTART:20071104T020000
RRULE:FREQ=YEARLY;BYMONTH=11;BYDAY=1SU
END:STANDARD
BEGIN:DAYLIGHT
TZOFFSETFROM:-0900
TZOFFSETTO:-0800
DTSTART:19870405T020000
RRULE:FREQ=YEARLY;BYMONTH=4;BYDAY=1SU;UNTIL=20061029T020000
END:DAYLIGHT
BEGIN:DAYLIGHT
TZOFFSETFROM:-0900
TZOFFSETTO:-0800
DTSTART:20070311T020000
RRULE:FREQ=YEARLY;BYMONTH=3;BYDAY=2SU
END:DAYLIGHT
END:VTIMEZONE
BEGIN:VTIMEZONE
TZID:US/Hawaii
BEGIN:STANDARD
TZOFFSETFROM:-1000
TZOFFSETTO:-1000
DTSTART:19701025T020000
END:STANDARD
END:VTIMEZONE
BEGIN:VTIMEZONE
TZID:US/Aleutian
BEGIN:STANDARD
TZOFFSETFROM:-1000
TZOFFSETTO:-1000
DTSTART:19701025T020000
END:STANDARD
END:VTIMEZONE
BEGIN:VTIMEZONE
TZID:US/Samoa
BEGIN:STANDARD
TZOFFSETFROM:-1100
TZOFFSETTO:-1100
DTSTART:19701025T020000
END:STANDARD
END:VTIMEZONE
BEGIN:VEVENT
UID:11063519@ahs.alcoaschools.net#20270122
SEQUENCE:0
CREATED:20260225T144705Z
LAST-MODIFIED:20260225T144705Z
DTSTART;TZID=US/Eastern:20270122T130600
DTEND;TZID=US/Eastern:20270122T130700
SUMMARY:Assignment: Realize Login
DESCRIPTION:Please use the below link to connect your Google Classroom acco
 unt to your Realize Account.\n<a href=' https://ahs.alcoaschools.net/apps/
 classes/1063109/assignments/#hw-11063519'>Read more</a>
URL:https://ahs.alcoaschools.net/apps/classes/1063109/assignments/#hw-11063
 519
ORGANIZER;CN="Edlio Calendar":MAILTO:noreply@ahs.alcoaschools.net
DTSTAMP:20260422T180255Z
END:VEVENT
BEGIN:VEVENT
UID:11063522@ahs.alcoaschools.net#20270122
SEQUENCE:0
CREATED:20260225T144706Z
LAST-MODIFIED:20260225T144706Z
DTSTART;TZID=US/Eastern:20270122T130600
DTEND;TZID=US/Eastern:20270122T130700
SUMMARY:Assignment: Realize Login
DESCRIPTION:Please use the below link to connect your Google Classroom acco
 unt to your Realize Account.\n<a href=' https://ahs.alcoaschools.net/apps/
 classes/1063109/assignments/#hw-11063522'>Read more</a>
URL:https://ahs.alcoaschools.net/apps/classes/1063109/assignments/#hw-11063
 522
ORGANIZER;CN="Edlio Calendar":MAILTO:noreply@ahs.alcoaschools.net
DTSTAMP:20260422T180255Z
END:VEVENT
BEGIN:VEVENT
UID:11644715@ahs.alcoaschools.net#20260501
SEQUENCE:0
CREATED:20260415T134258Z
LAST-MODIFIED:20260415T134258Z
DTSTART;TZID=US/Eastern:20260501T235800
DTEND;TZID=US/Eastern:20260501T235900
SUMMARY:Assignment: Poetry Recitation
DESCRIPTION:You will choose a poem from the Poetry Out Loud website and mem
 orize the poem to recite in front of the class.  Claim your poem in the co
 mments section of this assignment. You will also copy the poem 20 times by
  hand.<br><br>\n<a href=' https://ahs.alcoaschools.net/apps/classes/106310
 9/assignments/#hw-11644715'>Read more</a>
URL:https://ahs.alcoaschools.net/apps/classes/1063109/assignments/#hw-11644
 715
ORGANIZER;CN="Edlio Calendar":MAILTO:noreply@ahs.alcoaschools.net
DTSTAMP:20260422T180255Z
END:VEVENT
BEGIN:VEVENT
UID:11644716@ahs.alcoaschools.net#20260501
SEQUENCE:0
CREATED:20260415T134258Z
LAST-MODIFIED:20260415T134258Z
DTSTART;TZID=US/Eastern:20260501T235800
DTEND;TZID=US/Eastern:20260501T235900
SUMMARY:Assignment: Poetry Recitation
DESCRIPTION:You will choose a poem from the Poetry Out Loud website and mem
 orize the poem to recite in front of the class.  Claim your poem in the co
 mments section of this assignment. You will also copy the poem 20 times by
  hand.<br><br>\n<a href=' https://ahs.alcoaschools.net/apps/classes/106310
 9/assignments/#hw-11644716'>Read more</a>
URL:https://ahs.alcoaschools.net/apps/classes/1063109/assignments/#hw-11644
 716
ORGANIZER;CN="Edlio Calendar":MAILTO:noreply@ahs.alcoaschools.net
DTSTAMP:20260422T180255Z
END:VEVENT
BEGIN:VEVENT
UID:11644717@ahs.alcoaschools.net#20260501
SEQUENCE:0
CREATED:20260415T134258Z
LAST-MODIFIED:20260415T134258Z
DTSTART;TZID=US/Eastern:20260501T235800
DTEND;TZID=US/Eastern:20260501T235900
SUMMARY:Assignment: Poetry Recitation
DESCRIPTION:You will choose a poem from the Poetry Out Loud website and mem
 orize the poem to recite in front of the class.  Claim your poem in the co
 mments section of this assignment. You will also copy the poem 20 times by
  hand.<br><br>\n<a href=' https://ahs.alcoaschools.net/apps/classes/106310
 9/assignments/#hw-11644717'>Read more</a>
URL:https://ahs.alcoaschools.net/apps/classes/1063109/assignments/#hw-11644
 717
ORGANIZER;CN="Edlio Calendar":MAILTO:noreply@ahs.alcoaschools.net
DTSTAMP:20260422T180255Z
END:VEVENT
END:VCALENDAR
