BEGIN:VCALENDAR
VERSION:2.0
PRODID:-//Edlio Inc//Edlio Calendar//EN
CALSCALE:GREGORIAN
METHOD:PUBLISH
X-WR-CALNAME:1st Period- Algebra 1 CP (Spring 25-26) - Alcoa High School
X-ORIGINAL-URL:https://ahs.alcoaschools.net
X-WR-CALDESC:Events calendar for ahs.alcoaschools.net
X-WR-TIMEZONE:US/Eastern
REFRESH-INTERVAL;VALUE=DURATION:PT1H
X-Robots-Tag:noindex
X-PUBLISHED-TTL:PT1H
BEGIN:VTIMEZONE
TZID:US/Eastern
BEGIN:STANDARD
TZOFFSETFROM:-0400
TZOFFSETTO:-0500
DTSTART:20071104T020000
RRULE:FREQ=YEARLY;BYMONTH=11;BYDAY=1SU
END:STANDARD
BEGIN:DAYLIGHT
TZOFFSETFROM:-0500
TZOFFSETTO:-0400
DTSTART:20070311T020000
RRULE:FREQ=YEARLY;BYMONTH=3;BYDAY=2SU
END:DAYLIGHT
END:VTIMEZONE
BEGIN:VTIMEZONE
TZID:US/East-Indiana
BEGIN:STANDARD
TZOFFSETFROM:-0500
TZOFFSETTO:-0500
DTSTART:19701025T020000
END:STANDARD
END:VTIMEZONE
BEGIN:VTIMEZONE
TZID:US/Eastern
BEGIN:STANDARD
TZOFFSETFROM:-0400
TZOFFSETTO:-0500
DTSTART:19701025T020000
RRULE:FREQ=YEARLY;BYMONTH=10;BYDAY=-1SU;UNTIL=20070311T020000
END:STANDARD
BEGIN:STANDARD
TZOFFSETFROM:-0400
TZOFFSETTO:-0500
DTSTART:20071104T020000
RRULE:FREQ=YEARLY;BYMONTH=11;BYDAY=1SU
END:STANDARD
BEGIN:DAYLIGHT
TZOFFSETFROM:-0500
TZOFFSETTO:-0400
DTSTART:19870405T020000
RRULE:FREQ=YEARLY;BYMONTH=4;BYDAY=1SU;UNTIL=20061029T020000
END:DAYLIGHT
BEGIN:DAYLIGHT
TZOFFSETFROM:-0500
TZOFFSETTO:-0400
DTSTART:20070311T020000
RRULE:FREQ=YEARLY;BYMONTH=3;BYDAY=2SU
END:DAYLIGHT
END:VTIMEZONE
BEGIN:VTIMEZONE
TZID:US/Michigan
BEGIN:STANDARD
TZOFFSETFROM:-0400
TZOFFSETTO:-0500
DTSTART:19701025T020000
RRULE:FREQ=YEARLY;BYMONTH=10;BYDAY=-1SU;UNTIL=20070311T020000
END:STANDARD
BEGIN:STANDARD
TZOFFSETFROM:-0400
TZOFFSETTO:-0500
DTSTART:20071104T020000
RRULE:FREQ=YEARLY;BYMONTH=11;BYDAY=1SU
END:STANDARD
BEGIN:DAYLIGHT
TZOFFSETFROM:-0500
TZOFFSETTO:-0400
DTSTART:19870405T020000
RRULE:FREQ=YEARLY;BYMONTH=4;BYDAY=1SU;UNTIL=20061029T020000
END:DAYLIGHT
BEGIN:DAYLIGHT
TZOFFSETFROM:-0500
TZOFFSETTO:-0400
DTSTART:20070311T020000
RRULE:FREQ=YEARLY;BYMONTH=3;BYDAY=2SU
END:DAYLIGHT
END:VTIMEZONE
BEGIN:VTIMEZONE
TZID:US/Central
BEGIN:STANDARD
TZOFFSETFROM:-0500
TZOFFSETTO:-0600
DTSTART:19701025T020000
RRULE:FREQ=YEARLY;BYMONTH=10;BYDAY=-1SU;UNTIL=20070311T020000
END:STANDARD
BEGIN:STANDARD
TZOFFSETFROM:-0500
TZOFFSETTO:-0600
DTSTART:20071104T020000
RRULE:FREQ=YEARLY;BYMONTH=11;BYDAY=1SU
END:STANDARD
BEGIN:DAYLIGHT
TZOFFSETFROM:-0600
TZOFFSETTO:-0500
DTSTART:19870405T020000
RRULE:FREQ=YEARLY;BYMONTH=4;BYDAY=1SU;UNTIL=20061029T020000
END:DAYLIGHT
BEGIN:DAYLIGHT
TZOFFSETFROM:-0600
TZOFFSETTO:-0500
DTSTART:20070311T020000
RRULE:FREQ=YEARLY;BYMONTH=3;BYDAY=2SU
END:DAYLIGHT
END:VTIMEZONE
BEGIN:VTIMEZONE
TZID:US/Mountain
BEGIN:STANDARD
TZOFFSETFROM:-0600
TZOFFSETTO:-0700
DTSTART:19701025T020000
RRULE:FREQ=YEARLY;BYMONTH=10;BYDAY=-1SU;UNTIL=20070311T020000
END:STANDARD
BEGIN:STANDARD
TZOFFSETFROM:-0600
TZOFFSETTO:-0700
DTSTART:20071104T020000
RRULE:FREQ=YEARLY;BYMONTH=11;BYDAY=1SU
END:STANDARD
BEGIN:DAYLIGHT
TZOFFSETFROM:-0700
TZOFFSETTO:-0600
DTSTART:19870405T020000
RRULE:FREQ=YEARLY;BYMONTH=4;BYDAY=1SU;UNTIL=20061029T020000
END:DAYLIGHT
BEGIN:DAYLIGHT
TZOFFSETFROM:-0700
TZOFFSETTO:-0600
DTSTART:20070311T020000
RRULE:FREQ=YEARLY;BYMONTH=3;BYDAY=2SU
END:DAYLIGHT
END:VTIMEZONE
BEGIN:VTIMEZONE
TZID:US/Arizona
BEGIN:STANDARD
TZOFFSETFROM:-0700
TZOFFSETTO:-0700
DTSTART:19701025T020000
END:STANDARD
END:VTIMEZONE
BEGIN:VTIMEZONE
TZID:US/Pacific
BEGIN:STANDARD
TZOFFSETFROM:-0700
TZOFFSETTO:-0800
DTSTART:19701025T020000
RRULE:FREQ=YEARLY;BYMONTH=10;BYDAY=-1SU;UNTIL=20070311T020000
END:STANDARD
BEGIN:STANDARD
TZOFFSETFROM:-0700
TZOFFSETTO:-0800
DTSTART:20071104T020000
RRULE:FREQ=YEARLY;BYMONTH=11;BYDAY=1SU
END:STANDARD
BEGIN:DAYLIGHT
TZOFFSETFROM:-0800
TZOFFSETTO:-0700
DTSTART:19870405T020000
RRULE:FREQ=YEARLY;BYMONTH=4;BYDAY=1SU;UNTIL=20061029T020000
END:DAYLIGHT
BEGIN:DAYLIGHT
TZOFFSETFROM:-0800
TZOFFSETTO:-0700
DTSTART:20070311T020000
RRULE:FREQ=YEARLY;BYMONTH=3;BYDAY=2SU
END:DAYLIGHT
END:VTIMEZONE
BEGIN:VTIMEZONE
TZID:US/Alaska
BEGIN:STANDARD
TZOFFSETFROM:-0800
TZOFFSETTO:-0900
DTSTART:19701025T020000
RRULE:FREQ=YEARLY;BYMONTH=10;BYDAY=-1SU;UNTIL=20070311T020000
END:STANDARD
BEGIN:STANDARD
TZOFFSETFROM:-0800
TZOFFSETTO:-0900
DTSTART:20071104T020000
RRULE:FREQ=YEARLY;BYMONTH=11;BYDAY=1SU
END:STANDARD
BEGIN:DAYLIGHT
TZOFFSETFROM:-0900
TZOFFSETTO:-0800
DTSTART:19870405T020000
RRULE:FREQ=YEARLY;BYMONTH=4;BYDAY=1SU;UNTIL=20061029T020000
END:DAYLIGHT
BEGIN:DAYLIGHT
TZOFFSETFROM:-0900
TZOFFSETTO:-0800
DTSTART:20070311T020000
RRULE:FREQ=YEARLY;BYMONTH=3;BYDAY=2SU
END:DAYLIGHT
END:VTIMEZONE
BEGIN:VTIMEZONE
TZID:US/Hawaii
BEGIN:STANDARD
TZOFFSETFROM:-1000
TZOFFSETTO:-1000
DTSTART:19701025T020000
END:STANDARD
END:VTIMEZONE
BEGIN:VTIMEZONE
TZID:US/Aleutian
BEGIN:STANDARD
TZOFFSETFROM:-1000
TZOFFSETTO:-1000
DTSTART:19701025T020000
END:STANDARD
END:VTIMEZONE
BEGIN:VTIMEZONE
TZID:US/Samoa
BEGIN:STANDARD
TZOFFSETFROM:-1100
TZOFFSETTO:-1100
DTSTART:19701025T020000
END:STANDARD
END:VTIMEZONE
BEGIN:VEVENT
UID:11762479@ahs.alcoaschools.net#20260423
SEQUENCE:0
CREATED:20260421T104245Z
LAST-MODIFIED:20260421T104245Z
DTSTART;TZID=US/Eastern:20260423T081400
DTEND;TZID=US/Eastern:20260423T081500
SUMMARY:Assignment: Edpuzzle - 10-3 Analyzing Functions Graphically
URL:https://ahs.alcoaschools.net/apps/classes/1063439/assignments/#hw-11762
 479
ORGANIZER;CN="Edlio Calendar":MAILTO:noreply@ahs.alcoaschools.net
DTSTAMP:20260424T033941Z
END:VEVENT
BEGIN:VEVENT
UID:11762480@ahs.alcoaschools.net#20260423
SEQUENCE:0
CREATED:20260421T104245Z
LAST-MODIFIED:20260421T104245Z
DTSTART;TZID=US/Eastern:20260423T081400
DTEND;TZID=US/Eastern:20260423T081500
SUMMARY:Assignment: Edpuzzle - 10-3 Analyzing Functions Graphically
URL:https://ahs.alcoaschools.net/apps/classes/1063439/assignments/#hw-11762
 480
ORGANIZER;CN="Edlio Calendar":MAILTO:noreply@ahs.alcoaschools.net
DTSTAMP:20260424T033941Z
END:VEVENT
BEGIN:VEVENT
UID:11762483@ahs.alcoaschools.net#20260423
SEQUENCE:0
CREATED:20260421T104245Z
LAST-MODIFIED:20260421T104245Z
DTSTART;TZID=US/Eastern:20260423T081400
DTEND;TZID=US/Eastern:20260423T081500
SUMMARY:Assignment: Edpuzzle - 10-3 Analyzing Functions Graphically
URL:https://ahs.alcoaschools.net/apps/classes/1063439/assignments/#hw-11762
 483
ORGANIZER;CN="Edlio Calendar":MAILTO:noreply@ahs.alcoaschools.net
DTSTAMP:20260424T033941Z
END:VEVENT
BEGIN:VEVENT
UID:11762485@ahs.alcoaschools.net#20260423
SEQUENCE:0
CREATED:20260421T104246Z
LAST-MODIFIED:20260421T104246Z
DTSTART;TZID=US/Eastern:20260423T081400
DTEND;TZID=US/Eastern:20260423T081500
SUMMARY:Assignment: Edpuzzle - 10-3 Analyzing Functions Graphically
URL:https://ahs.alcoaschools.net/apps/classes/1063439/assignments/#hw-11762
 485
ORGANIZER;CN="Edlio Calendar":MAILTO:noreply@ahs.alcoaschools.net
DTSTAMP:20260424T033941Z
END:VEVENT
BEGIN:VEVENT
UID:11793386@ahs.alcoaschools.net#20260424
SEQUENCE:0
CREATED:20260423T104835Z
LAST-MODIFIED:20260423T104835Z
DTSTART;TZID=US/Eastern:20260424T081400
DTEND;TZID=US/Eastern:20260424T081500
SUMMARY:Assignment: Edpuzzle - 10-4 Translations of Functions
URL:https://ahs.alcoaschools.net/apps/classes/1063439/assignments/#hw-11793
 386
ORGANIZER;CN="Edlio Calendar":MAILTO:noreply@ahs.alcoaschools.net
DTSTAMP:20260424T033941Z
END:VEVENT
BEGIN:VEVENT
UID:11793387@ahs.alcoaschools.net#20260424
SEQUENCE:0
CREATED:20260423T104835Z
LAST-MODIFIED:20260423T104835Z
DTSTART;TZID=US/Eastern:20260424T081400
DTEND;TZID=US/Eastern:20260424T081500
SUMMARY:Assignment: Edpuzzle - 10-4 Translations of Functions
URL:https://ahs.alcoaschools.net/apps/classes/1063439/assignments/#hw-11793
 387
ORGANIZER;CN="Edlio Calendar":MAILTO:noreply@ahs.alcoaschools.net
DTSTAMP:20260424T033941Z
END:VEVENT
BEGIN:VEVENT
UID:11793389@ahs.alcoaschools.net#20260424
SEQUENCE:0
CREATED:20260423T104835Z
LAST-MODIFIED:20260423T104835Z
DTSTART;TZID=US/Eastern:20260424T081400
DTEND;TZID=US/Eastern:20260424T081500
SUMMARY:Assignment: Edpuzzle - 10-4 Translations of Functions
URL:https://ahs.alcoaschools.net/apps/classes/1063439/assignments/#hw-11793
 389
ORGANIZER;CN="Edlio Calendar":MAILTO:noreply@ahs.alcoaschools.net
DTSTAMP:20260424T033941Z
END:VEVENT
BEGIN:VEVENT
UID:11793384@ahs.alcoaschools.net#20260423
SEQUENCE:0
CREATED:20260423T104834Z
LAST-MODIFIED:20260423T104834Z
DTSTART;TZID=US/Eastern:20260423T100600
DTEND;TZID=US/Eastern:20260423T100700
SUMMARY:Assignment: Bell Ringer: 10-2 SAVVAS Alg 1
URL:https://ahs.alcoaschools.net/apps/classes/1063439/assignments/#hw-11793
 384
ORGANIZER;CN="Edlio Calendar":MAILTO:noreply@ahs.alcoaschools.net
DTSTAMP:20260424T033941Z
END:VEVENT
BEGIN:VEVENT
UID:11793385@ahs.alcoaschools.net#20260423
SEQUENCE:0
CREATED:20260423T104834Z
LAST-MODIFIED:20260423T104834Z
DTSTART;TZID=US/Eastern:20260423T100600
DTEND;TZID=US/Eastern:20260423T100700
SUMMARY:Assignment: Bell Ringer: 10-2 SAVVAS Alg 1
URL:https://ahs.alcoaschools.net/apps/classes/1063439/assignments/#hw-11793
 385
ORGANIZER;CN="Edlio Calendar":MAILTO:noreply@ahs.alcoaschools.net
DTSTAMP:20260424T033941Z
END:VEVENT
BEGIN:VEVENT
UID:11793388@ahs.alcoaschools.net#20260423
SEQUENCE:0
CREATED:20260423T104835Z
LAST-MODIFIED:20260423T104835Z
DTSTART;TZID=US/Eastern:20260423T100600
DTEND;TZID=US/Eastern:20260423T100700
SUMMARY:Assignment: Bell Ringer: 10-2 SAVVAS Alg 1
URL:https://ahs.alcoaschools.net/apps/classes/1063439/assignments/#hw-11793
 388
ORGANIZER;CN="Edlio Calendar":MAILTO:noreply@ahs.alcoaschools.net
DTSTAMP:20260424T033941Z
END:VEVENT
BEGIN:VEVENT
UID:11462856@ahs.alcoaschools.net#20270105
SEQUENCE:0
CREATED:20260406T104310Z
LAST-MODIFIED:20260406T104310Z
DTSTART;TZID=US/Eastern:20270105T150700
DTEND;TZID=US/Eastern:20270105T150800
SUMMARY:Assignment: Realize Login
DESCRIPTION:Please use the below link to connect your Google Classroom acco
 unt to your Realize Account.\n<a href=' https://ahs.alcoaschools.net/apps/
 classes/1063439/assignments/#hw-11462856'>Read more</a>
URL:https://ahs.alcoaschools.net/apps/classes/1063439/assignments/#hw-11462
 856
ORGANIZER;CN="Edlio Calendar":MAILTO:noreply@ahs.alcoaschools.net
DTSTAMP:20260424T033941Z
END:VEVENT
BEGIN:VEVENT
UID:11462876@ahs.alcoaschools.net#20270105
SEQUENCE:0
CREATED:20260406T104312Z
LAST-MODIFIED:20260406T104312Z
DTSTART;TZID=US/Eastern:20270105T150700
DTEND;TZID=US/Eastern:20270105T150800
SUMMARY:Assignment: Realize Login
DESCRIPTION:Please use the below link to connect your Google Classroom acco
 unt to your Realize Account.\n<a href=' https://ahs.alcoaschools.net/apps/
 classes/1063439/assignments/#hw-11462876'>Read more</a>
URL:https://ahs.alcoaschools.net/apps/classes/1063439/assignments/#hw-11462
 876
ORGANIZER;CN="Edlio Calendar":MAILTO:noreply@ahs.alcoaschools.net
DTSTAMP:20260424T033941Z
END:VEVENT
END:VCALENDAR
