BEGIN:VCALENDAR
VERSION:2.0
PRODID:-//Edlio Inc//Edlio Calendar//EN
CALSCALE:GREGORIAN
METHOD:PUBLISH
X-WR-CALNAME:English II CP-3rd Period - Alcoa High School
X-ORIGINAL-URL:https://ahs.alcoaschools.net
X-WR-CALDESC:Events calendar for ahs.alcoaschools.net
X-WR-TIMEZONE:US/Eastern
REFRESH-INTERVAL;VALUE=DURATION:PT1H
X-Robots-Tag:noindex
X-PUBLISHED-TTL:PT1H
BEGIN:VTIMEZONE
TZID:US/Eastern
BEGIN:STANDARD
TZOFFSETFROM:-0400
TZOFFSETTO:-0500
DTSTART:20071104T020000
RRULE:FREQ=YEARLY;BYMONTH=11;BYDAY=1SU
END:STANDARD
BEGIN:DAYLIGHT
TZOFFSETFROM:-0500
TZOFFSETTO:-0400
DTSTART:20070311T020000
RRULE:FREQ=YEARLY;BYMONTH=3;BYDAY=2SU
END:DAYLIGHT
END:VTIMEZONE
BEGIN:VTIMEZONE
TZID:US/East-Indiana
BEGIN:STANDARD
TZOFFSETFROM:-0500
TZOFFSETTO:-0500
DTSTART:19701025T020000
END:STANDARD
END:VTIMEZONE
BEGIN:VTIMEZONE
TZID:US/Eastern
BEGIN:STANDARD
TZOFFSETFROM:-0400
TZOFFSETTO:-0500
DTSTART:19701025T020000
RRULE:FREQ=YEARLY;BYMONTH=10;BYDAY=-1SU;UNTIL=20070311T020000
END:STANDARD
BEGIN:STANDARD
TZOFFSETFROM:-0400
TZOFFSETTO:-0500
DTSTART:20071104T020000
RRULE:FREQ=YEARLY;BYMONTH=11;BYDAY=1SU
END:STANDARD
BEGIN:DAYLIGHT
TZOFFSETFROM:-0500
TZOFFSETTO:-0400
DTSTART:19870405T020000
RRULE:FREQ=YEARLY;BYMONTH=4;BYDAY=1SU;UNTIL=20061029T020000
END:DAYLIGHT
BEGIN:DAYLIGHT
TZOFFSETFROM:-0500
TZOFFSETTO:-0400
DTSTART:20070311T020000
RRULE:FREQ=YEARLY;BYMONTH=3;BYDAY=2SU
END:DAYLIGHT
END:VTIMEZONE
BEGIN:VTIMEZONE
TZID:US/Michigan
BEGIN:STANDARD
TZOFFSETFROM:-0400
TZOFFSETTO:-0500
DTSTART:19701025T020000
RRULE:FREQ=YEARLY;BYMONTH=10;BYDAY=-1SU;UNTIL=20070311T020000
END:STANDARD
BEGIN:STANDARD
TZOFFSETFROM:-0400
TZOFFSETTO:-0500
DTSTART:20071104T020000
RRULE:FREQ=YEARLY;BYMONTH=11;BYDAY=1SU
END:STANDARD
BEGIN:DAYLIGHT
TZOFFSETFROM:-0500
TZOFFSETTO:-0400
DTSTART:19870405T020000
RRULE:FREQ=YEARLY;BYMONTH=4;BYDAY=1SU;UNTIL=20061029T020000
END:DAYLIGHT
BEGIN:DAYLIGHT
TZOFFSETFROM:-0500
TZOFFSETTO:-0400
DTSTART:20070311T020000
RRULE:FREQ=YEARLY;BYMONTH=3;BYDAY=2SU
END:DAYLIGHT
END:VTIMEZONE
BEGIN:VTIMEZONE
TZID:US/Central
BEGIN:STANDARD
TZOFFSETFROM:-0500
TZOFFSETTO:-0600
DTSTART:19701025T020000
RRULE:FREQ=YEARLY;BYMONTH=10;BYDAY=-1SU;UNTIL=20070311T020000
END:STANDARD
BEGIN:STANDARD
TZOFFSETFROM:-0500
TZOFFSETTO:-0600
DTSTART:20071104T020000
RRULE:FREQ=YEARLY;BYMONTH=11;BYDAY=1SU
END:STANDARD
BEGIN:DAYLIGHT
TZOFFSETFROM:-0600
TZOFFSETTO:-0500
DTSTART:19870405T020000
RRULE:FREQ=YEARLY;BYMONTH=4;BYDAY=1SU;UNTIL=20061029T020000
END:DAYLIGHT
BEGIN:DAYLIGHT
TZOFFSETFROM:-0600
TZOFFSETTO:-0500
DTSTART:20070311T020000
RRULE:FREQ=YEARLY;BYMONTH=3;BYDAY=2SU
END:DAYLIGHT
END:VTIMEZONE
BEGIN:VTIMEZONE
TZID:US/Mountain
BEGIN:STANDARD
TZOFFSETFROM:-0600
TZOFFSETTO:-0700
DTSTART:19701025T020000
RRULE:FREQ=YEARLY;BYMONTH=10;BYDAY=-1SU;UNTIL=20070311T020000
END:STANDARD
BEGIN:STANDARD
TZOFFSETFROM:-0600
TZOFFSETTO:-0700
DTSTART:20071104T020000
RRULE:FREQ=YEARLY;BYMONTH=11;BYDAY=1SU
END:STANDARD
BEGIN:DAYLIGHT
TZOFFSETFROM:-0700
TZOFFSETTO:-0600
DTSTART:19870405T020000
RRULE:FREQ=YEARLY;BYMONTH=4;BYDAY=1SU;UNTIL=20061029T020000
END:DAYLIGHT
BEGIN:DAYLIGHT
TZOFFSETFROM:-0700
TZOFFSETTO:-0600
DTSTART:20070311T020000
RRULE:FREQ=YEARLY;BYMONTH=3;BYDAY=2SU
END:DAYLIGHT
END:VTIMEZONE
BEGIN:VTIMEZONE
TZID:US/Arizona
BEGIN:STANDARD
TZOFFSETFROM:-0700
TZOFFSETTO:-0700
DTSTART:19701025T020000
END:STANDARD
END:VTIMEZONE
BEGIN:VTIMEZONE
TZID:US/Pacific
BEGIN:STANDARD
TZOFFSETFROM:-0700
TZOFFSETTO:-0800
DTSTART:19701025T020000
RRULE:FREQ=YEARLY;BYMONTH=10;BYDAY=-1SU;UNTIL=20070311T020000
END:STANDARD
BEGIN:STANDARD
TZOFFSETFROM:-0700
TZOFFSETTO:-0800
DTSTART:20071104T020000
RRULE:FREQ=YEARLY;BYMONTH=11;BYDAY=1SU
END:STANDARD
BEGIN:DAYLIGHT
TZOFFSETFROM:-0800
TZOFFSETTO:-0700
DTSTART:19870405T020000
RRULE:FREQ=YEARLY;BYMONTH=4;BYDAY=1SU;UNTIL=20061029T020000
END:DAYLIGHT
BEGIN:DAYLIGHT
TZOFFSETFROM:-0800
TZOFFSETTO:-0700
DTSTART:20070311T020000
RRULE:FREQ=YEARLY;BYMONTH=3;BYDAY=2SU
END:DAYLIGHT
END:VTIMEZONE
BEGIN:VTIMEZONE
TZID:US/Alaska
BEGIN:STANDARD
TZOFFSETFROM:-0800
TZOFFSETTO:-0900
DTSTART:19701025T020000
RRULE:FREQ=YEARLY;BYMONTH=10;BYDAY=-1SU;UNTIL=20070311T020000
END:STANDARD
BEGIN:STANDARD
TZOFFSETFROM:-0800
TZOFFSETTO:-0900
DTSTART:20071104T020000
RRULE:FREQ=YEARLY;BYMONTH=11;BYDAY=1SU
END:STANDARD
BEGIN:DAYLIGHT
TZOFFSETFROM:-0900
TZOFFSETTO:-0800
DTSTART:19870405T020000
RRULE:FREQ=YEARLY;BYMONTH=4;BYDAY=1SU;UNTIL=20061029T020000
END:DAYLIGHT
BEGIN:DAYLIGHT
TZOFFSETFROM:-0900
TZOFFSETTO:-0800
DTSTART:20070311T020000
RRULE:FREQ=YEARLY;BYMONTH=3;BYDAY=2SU
END:DAYLIGHT
END:VTIMEZONE
BEGIN:VTIMEZONE
TZID:US/Hawaii
BEGIN:STANDARD
TZOFFSETFROM:-1000
TZOFFSETTO:-1000
DTSTART:19701025T020000
END:STANDARD
END:VTIMEZONE
BEGIN:VTIMEZONE
TZID:US/Aleutian
BEGIN:STANDARD
TZOFFSETFROM:-1000
TZOFFSETTO:-1000
DTSTART:19701025T020000
END:STANDARD
END:VTIMEZONE
BEGIN:VTIMEZONE
TZID:US/Samoa
BEGIN:STANDARD
TZOFFSETFROM:-1100
TZOFFSETTO:-1100
DTSTART:19701025T020000
END:STANDARD
END:VTIMEZONE
BEGIN:VEVENT
UID:11127874@ahs.alcoaschools.net#20270121
SEQUENCE:0
CREATED:20260305T144850Z
LAST-MODIFIED:20260305T144850Z
DTSTART;TZID=US/Eastern:20270121T153800
DTEND;TZID=US/Eastern:20270121T153900
SUMMARY:Assignment: Realize Login
DESCRIPTION:Please use the below link to connect your Google Classroom acco
 unt to your Realize Account.\n<a href=' https://ahs.alcoaschools.net/apps/
 classes/1063444/assignments/#hw-11127874'>Read more</a>
URL:https://ahs.alcoaschools.net/apps/classes/1063444/assignments/#hw-11127
 874
ORGANIZER;CN="Edlio Calendar":MAILTO:noreply@ahs.alcoaschools.net
DTSTAMP:20260422T180256Z
END:VEVENT
BEGIN:VEVENT
UID:11127875@ahs.alcoaschools.net#20270121
SEQUENCE:0
CREATED:20260305T144850Z
LAST-MODIFIED:20260305T144850Z
DTSTART;TZID=US/Eastern:20270121T153800
DTEND;TZID=US/Eastern:20270121T153900
SUMMARY:Assignment: Realize Login
DESCRIPTION:Please use the below link to connect your Google Classroom acco
 unt to your Realize Account.\n<a href=' https://ahs.alcoaschools.net/apps/
 classes/1063444/assignments/#hw-11127875'>Read more</a>
URL:https://ahs.alcoaschools.net/apps/classes/1063444/assignments/#hw-11127
 875
ORGANIZER;CN="Edlio Calendar":MAILTO:noreply@ahs.alcoaschools.net
DTSTAMP:20260422T180256Z
END:VEVENT
BEGIN:VEVENT
UID:11127876@ahs.alcoaschools.net#20270121
SEQUENCE:0
CREATED:20260305T144850Z
LAST-MODIFIED:20260305T144850Z
DTSTART;TZID=US/Eastern:20270121T153800
DTEND;TZID=US/Eastern:20270121T153900
SUMMARY:Assignment: Realize Login
DESCRIPTION:Please use the below link to connect your Google Classroom acco
 unt to your Realize Account.\n<a href=' https://ahs.alcoaschools.net/apps/
 classes/1063444/assignments/#hw-11127876'>Read more</a>
URL:https://ahs.alcoaschools.net/apps/classes/1063444/assignments/#hw-11127
 876
ORGANIZER;CN="Edlio Calendar":MAILTO:noreply@ahs.alcoaschools.net
DTSTAMP:20260422T180256Z
END:VEVENT
BEGIN:VEVENT
UID:11127877@ahs.alcoaschools.net#20270121
SEQUENCE:0
CREATED:20260305T144850Z
LAST-MODIFIED:20260305T144850Z
DTSTART;TZID=US/Eastern:20270121T153800
DTEND;TZID=US/Eastern:20270121T153900
SUMMARY:Assignment: Realize Login
DESCRIPTION:Please use the below link to connect your Google Classroom acco
 unt to your Realize Account.\n<a href=' https://ahs.alcoaschools.net/apps/
 classes/1063444/assignments/#hw-11127877'>Read more</a>
URL:https://ahs.alcoaschools.net/apps/classes/1063444/assignments/#hw-11127
 877
ORGANIZER;CN="Edlio Calendar":MAILTO:noreply@ahs.alcoaschools.net
DTSTAMP:20260422T180256Z
END:VEVENT
BEGIN:VEVENT
UID:11677579@ahs.alcoaschools.net#20260421
SEQUENCE:0
CREATED:20260417T134546Z
LAST-MODIFIED:20260417T134546Z
DTSTART;TZID=US/Eastern:20260421T235800
DTEND;TZID=US/Eastern:20260421T235900
SUMMARY:Assignment: CommonLit: "We Shall Overcome" Speech
DESCRIPTION:Click the attached link to access the assignment\; on the Commo
 nLit login page\, click Log In With Google.\n<a href=' https://ahs.alcoasc
 hools.net/apps/classes/1063444/assignments/#hw-11677579'>Read more</a>
URL:https://ahs.alcoaschools.net/apps/classes/1063444/assignments/#hw-11677
 579
ORGANIZER;CN="Edlio Calendar":MAILTO:noreply@ahs.alcoaschools.net
DTSTAMP:20260422T180256Z
END:VEVENT
BEGIN:VEVENT
UID:11677580@ahs.alcoaschools.net#20260421
SEQUENCE:0
CREATED:20260417T134546Z
LAST-MODIFIED:20260417T134546Z
DTSTART;TZID=US/Eastern:20260421T235800
DTEND;TZID=US/Eastern:20260421T235900
SUMMARY:Assignment: CommonLit: "We Shall Overcome" Speech
DESCRIPTION:Click the attached link to access the assignment\; on the Commo
 nLit login page\, click Log In With Google.\n<a href=' https://ahs.alcoasc
 hools.net/apps/classes/1063444/assignments/#hw-11677580'>Read more</a>
URL:https://ahs.alcoaschools.net/apps/classes/1063444/assignments/#hw-11677
 580
ORGANIZER;CN="Edlio Calendar":MAILTO:noreply@ahs.alcoaschools.net
DTSTAMP:20260422T180256Z
END:VEVENT
BEGIN:VEVENT
UID:11677581@ahs.alcoaschools.net#20260421
SEQUENCE:0
CREATED:20260417T134547Z
LAST-MODIFIED:20260417T134547Z
DTSTART;TZID=US/Eastern:20260421T235800
DTEND;TZID=US/Eastern:20260421T235900
SUMMARY:Assignment: CommonLit: "We Shall Overcome" Speech
DESCRIPTION:Click the attached link to access the assignment\; on the Commo
 nLit login page\, click Log In With Google.\n<a href=' https://ahs.alcoasc
 hools.net/apps/classes/1063444/assignments/#hw-11677581'>Read more</a>
URL:https://ahs.alcoaschools.net/apps/classes/1063444/assignments/#hw-11677
 581
ORGANIZER;CN="Edlio Calendar":MAILTO:noreply@ahs.alcoaschools.net
DTSTAMP:20260422T180256Z
END:VEVENT
BEGIN:VEVENT
UID:11660241@ahs.alcoaschools.net#20260424
SEQUENCE:0
CREATED:20260416T164816Z
LAST-MODIFIED:20260416T164816Z
DTSTART;TZID=US/Eastern:20260424T235800
DTEND;TZID=US/Eastern:20260424T235900
SUMMARY:Assignment: Malala Yousafzai's Speech at the United Nations
DESCRIPTION:If you wish to complete the packet of tasks for this speech on 
 a blank Google Doc\, please feel free to do so and submit upon completion.
 \n<a href=' https://ahs.alcoaschools.net/apps/classes/1063444/assignments/
 #hw-11660241'>Read more</a>
URL:https://ahs.alcoaschools.net/apps/classes/1063444/assignments/#hw-11660
 241
ORGANIZER;CN="Edlio Calendar":MAILTO:noreply@ahs.alcoaschools.net
DTSTAMP:20260422T180256Z
END:VEVENT
BEGIN:VEVENT
UID:11660242@ahs.alcoaschools.net#20260424
SEQUENCE:0
CREATED:20260416T164816Z
LAST-MODIFIED:20260416T164816Z
DTSTART;TZID=US/Eastern:20260424T235800
DTEND;TZID=US/Eastern:20260424T235900
SUMMARY:Assignment: Malala Yousafzai's Speech at the United Nations
DESCRIPTION:If you wish to complete the packet of tasks for this speech on 
 a blank Google Doc\, please feel free to do so and submit upon completion.
 \n<a href=' https://ahs.alcoaschools.net/apps/classes/1063444/assignments/
 #hw-11660242'>Read more</a>
URL:https://ahs.alcoaschools.net/apps/classes/1063444/assignments/#hw-11660
 242
ORGANIZER;CN="Edlio Calendar":MAILTO:noreply@ahs.alcoaschools.net
DTSTAMP:20260422T180256Z
END:VEVENT
END:VCALENDAR
