BEGIN:VCALENDAR
VERSION:2.0
PRODID:-//Edlio Inc//Edlio Calendar//EN
CALSCALE:GREGORIAN
METHOD:PUBLISH
X-WR-CALNAME:Spanish II-26B3-Prd: 3rd Spring - Alcoa High School
X-ORIGINAL-URL:https://ahs.alcoaschools.net
X-WR-CALDESC:Events calendar for ahs.alcoaschools.net
X-WR-TIMEZONE:US/Eastern
REFRESH-INTERVAL;VALUE=DURATION:PT1H
X-Robots-Tag:noindex
X-PUBLISHED-TTL:PT1H
BEGIN:VTIMEZONE
TZID:US/Eastern
BEGIN:STANDARD
TZOFFSETFROM:-0400
TZOFFSETTO:-0500
DTSTART:20071104T020000
RRULE:FREQ=YEARLY;BYMONTH=11;BYDAY=1SU
END:STANDARD
BEGIN:DAYLIGHT
TZOFFSETFROM:-0500
TZOFFSETTO:-0400
DTSTART:20070311T020000
RRULE:FREQ=YEARLY;BYMONTH=3;BYDAY=2SU
END:DAYLIGHT
END:VTIMEZONE
BEGIN:VTIMEZONE
TZID:US/East-Indiana
BEGIN:STANDARD
TZOFFSETFROM:-0500
TZOFFSETTO:-0500
DTSTART:19701025T020000
END:STANDARD
END:VTIMEZONE
BEGIN:VTIMEZONE
TZID:US/Eastern
BEGIN:STANDARD
TZOFFSETFROM:-0400
TZOFFSETTO:-0500
DTSTART:19701025T020000
RRULE:FREQ=YEARLY;BYMONTH=10;BYDAY=-1SU;UNTIL=20070311T020000
END:STANDARD
BEGIN:STANDARD
TZOFFSETFROM:-0400
TZOFFSETTO:-0500
DTSTART:20071104T020000
RRULE:FREQ=YEARLY;BYMONTH=11;BYDAY=1SU
END:STANDARD
BEGIN:DAYLIGHT
TZOFFSETFROM:-0500
TZOFFSETTO:-0400
DTSTART:19870405T020000
RRULE:FREQ=YEARLY;BYMONTH=4;BYDAY=1SU;UNTIL=20061029T020000
END:DAYLIGHT
BEGIN:DAYLIGHT
TZOFFSETFROM:-0500
TZOFFSETTO:-0400
DTSTART:20070311T020000
RRULE:FREQ=YEARLY;BYMONTH=3;BYDAY=2SU
END:DAYLIGHT
END:VTIMEZONE
BEGIN:VTIMEZONE
TZID:US/Michigan
BEGIN:STANDARD
TZOFFSETFROM:-0400
TZOFFSETTO:-0500
DTSTART:19701025T020000
RRULE:FREQ=YEARLY;BYMONTH=10;BYDAY=-1SU;UNTIL=20070311T020000
END:STANDARD
BEGIN:STANDARD
TZOFFSETFROM:-0400
TZOFFSETTO:-0500
DTSTART:20071104T020000
RRULE:FREQ=YEARLY;BYMONTH=11;BYDAY=1SU
END:STANDARD
BEGIN:DAYLIGHT
TZOFFSETFROM:-0500
TZOFFSETTO:-0400
DTSTART:19870405T020000
RRULE:FREQ=YEARLY;BYMONTH=4;BYDAY=1SU;UNTIL=20061029T020000
END:DAYLIGHT
BEGIN:DAYLIGHT
TZOFFSETFROM:-0500
TZOFFSETTO:-0400
DTSTART:20070311T020000
RRULE:FREQ=YEARLY;BYMONTH=3;BYDAY=2SU
END:DAYLIGHT
END:VTIMEZONE
BEGIN:VTIMEZONE
TZID:US/Central
BEGIN:STANDARD
TZOFFSETFROM:-0500
TZOFFSETTO:-0600
DTSTART:19701025T020000
RRULE:FREQ=YEARLY;BYMONTH=10;BYDAY=-1SU;UNTIL=20070311T020000
END:STANDARD
BEGIN:STANDARD
TZOFFSETFROM:-0500
TZOFFSETTO:-0600
DTSTART:20071104T020000
RRULE:FREQ=YEARLY;BYMONTH=11;BYDAY=1SU
END:STANDARD
BEGIN:DAYLIGHT
TZOFFSETFROM:-0600
TZOFFSETTO:-0500
DTSTART:19870405T020000
RRULE:FREQ=YEARLY;BYMONTH=4;BYDAY=1SU;UNTIL=20061029T020000
END:DAYLIGHT
BEGIN:DAYLIGHT
TZOFFSETFROM:-0600
TZOFFSETTO:-0500
DTSTART:20070311T020000
RRULE:FREQ=YEARLY;BYMONTH=3;BYDAY=2SU
END:DAYLIGHT
END:VTIMEZONE
BEGIN:VTIMEZONE
TZID:US/Mountain
BEGIN:STANDARD
TZOFFSETFROM:-0600
TZOFFSETTO:-0700
DTSTART:19701025T020000
RRULE:FREQ=YEARLY;BYMONTH=10;BYDAY=-1SU;UNTIL=20070311T020000
END:STANDARD
BEGIN:STANDARD
TZOFFSETFROM:-0600
TZOFFSETTO:-0700
DTSTART:20071104T020000
RRULE:FREQ=YEARLY;BYMONTH=11;BYDAY=1SU
END:STANDARD
BEGIN:DAYLIGHT
TZOFFSETFROM:-0700
TZOFFSETTO:-0600
DTSTART:19870405T020000
RRULE:FREQ=YEARLY;BYMONTH=4;BYDAY=1SU;UNTIL=20061029T020000
END:DAYLIGHT
BEGIN:DAYLIGHT
TZOFFSETFROM:-0700
TZOFFSETTO:-0600
DTSTART:20070311T020000
RRULE:FREQ=YEARLY;BYMONTH=3;BYDAY=2SU
END:DAYLIGHT
END:VTIMEZONE
BEGIN:VTIMEZONE
TZID:US/Arizona
BEGIN:STANDARD
TZOFFSETFROM:-0700
TZOFFSETTO:-0700
DTSTART:19701025T020000
END:STANDARD
END:VTIMEZONE
BEGIN:VTIMEZONE
TZID:US/Pacific
BEGIN:STANDARD
TZOFFSETFROM:-0700
TZOFFSETTO:-0800
DTSTART:19701025T020000
RRULE:FREQ=YEARLY;BYMONTH=10;BYDAY=-1SU;UNTIL=20070311T020000
END:STANDARD
BEGIN:STANDARD
TZOFFSETFROM:-0700
TZOFFSETTO:-0800
DTSTART:20071104T020000
RRULE:FREQ=YEARLY;BYMONTH=11;BYDAY=1SU
END:STANDARD
BEGIN:DAYLIGHT
TZOFFSETFROM:-0800
TZOFFSETTO:-0700
DTSTART:19870405T020000
RRULE:FREQ=YEARLY;BYMONTH=4;BYDAY=1SU;UNTIL=20061029T020000
END:DAYLIGHT
BEGIN:DAYLIGHT
TZOFFSETFROM:-0800
TZOFFSETTO:-0700
DTSTART:20070311T020000
RRULE:FREQ=YEARLY;BYMONTH=3;BYDAY=2SU
END:DAYLIGHT
END:VTIMEZONE
BEGIN:VTIMEZONE
TZID:US/Alaska
BEGIN:STANDARD
TZOFFSETFROM:-0800
TZOFFSETTO:-0900
DTSTART:19701025T020000
RRULE:FREQ=YEARLY;BYMONTH=10;BYDAY=-1SU;UNTIL=20070311T020000
END:STANDARD
BEGIN:STANDARD
TZOFFSETFROM:-0800
TZOFFSETTO:-0900
DTSTART:20071104T020000
RRULE:FREQ=YEARLY;BYMONTH=11;BYDAY=1SU
END:STANDARD
BEGIN:DAYLIGHT
TZOFFSETFROM:-0900
TZOFFSETTO:-0800
DTSTART:19870405T020000
RRULE:FREQ=YEARLY;BYMONTH=4;BYDAY=1SU;UNTIL=20061029T020000
END:DAYLIGHT
BEGIN:DAYLIGHT
TZOFFSETFROM:-0900
TZOFFSETTO:-0800
DTSTART:20070311T020000
RRULE:FREQ=YEARLY;BYMONTH=3;BYDAY=2SU
END:DAYLIGHT
END:VTIMEZONE
BEGIN:VTIMEZONE
TZID:US/Hawaii
BEGIN:STANDARD
TZOFFSETFROM:-1000
TZOFFSETTO:-1000
DTSTART:19701025T020000
END:STANDARD
END:VTIMEZONE
BEGIN:VTIMEZONE
TZID:US/Aleutian
BEGIN:STANDARD
TZOFFSETFROM:-1000
TZOFFSETTO:-1000
DTSTART:19701025T020000
END:STANDARD
END:VTIMEZONE
BEGIN:VTIMEZONE
TZID:US/Samoa
BEGIN:STANDARD
TZOFFSETFROM:-1100
TZOFFSETTO:-1100
DTSTART:19701025T020000
END:STANDARD
END:VTIMEZONE
BEGIN:VEVENT
UID:11328419@ahs.alcoaschools.net#20260503
SEQUENCE:0
CREATED:20260331T134240Z
LAST-MODIFIED:20260331T134240Z
DTSTART;TZID=US/Eastern:20260503T235800
DTEND;TZID=US/Eastern:20260503T235900
SUMMARY:Assignment: 11th Week assignments
DESCRIPTION:Video Notes (3 pts)\n<a href=' https://ahs.alcoaschools.net/app
 s/classes/1063504/assignments/#hw-11328419'>Read more</a>
URL:https://ahs.alcoaschools.net/apps/classes/1063504/assignments/#hw-11328
 419
ORGANIZER;CN="Edlio Calendar":MAILTO:noreply@ahs.alcoaschools.net
DTSTAMP:20260421T072818Z
END:VEVENT
BEGIN:VEVENT
UID:11328420@ahs.alcoaschools.net#20260503
SEQUENCE:0
CREATED:20260331T134240Z
LAST-MODIFIED:20260331T134240Z
DTSTART;TZID=US/Eastern:20260503T235800
DTEND;TZID=US/Eastern:20260503T235900
SUMMARY:Assignment: 11th Week assignments
DESCRIPTION:Video Notes (3 pts)\n<a href=' https://ahs.alcoaschools.net/app
 s/classes/1063504/assignments/#hw-11328420'>Read more</a>
URL:https://ahs.alcoaschools.net/apps/classes/1063504/assignments/#hw-11328
 420
ORGANIZER;CN="Edlio Calendar":MAILTO:noreply@ahs.alcoaschools.net
DTSTAMP:20260421T072818Z
END:VEVENT
BEGIN:VEVENT
UID:11328421@ahs.alcoaschools.net#20260503
SEQUENCE:0
CREATED:20260405T194157Z
LAST-MODIFIED:20260405T194157Z
DTSTART;TZID=US/Eastern:20260503T235800
DTEND;TZID=US/Eastern:20260503T235900
SUMMARY:Assignment: 11th Week assignments
DESCRIPTION:Video Notes (4 pts)<br>Sentences translation (6 pts)\n<a href='
  https://ahs.alcoaschools.net/apps/classes/1063504/assignments/#hw-1132842
 1'>Read more</a>
URL:https://ahs.alcoaschools.net/apps/classes/1063504/assignments/#hw-11328
 421
ORGANIZER;CN="Edlio Calendar":MAILTO:noreply@ahs.alcoaschools.net
DTSTAMP:20260421T072818Z
END:VEVENT
BEGIN:VEVENT
UID:11677856@ahs.alcoaschools.net#20260421
SEQUENCE:0
CREATED:20260417T164820Z
LAST-MODIFIED:20260417T164820Z
DTSTART;TZID=US/Eastern:20260421T235800
DTEND;TZID=US/Eastern:20260421T235900
SUMMARY:Assignment: Skit Project
URL:https://ahs.alcoaschools.net/apps/classes/1063504/assignments/#hw-11677
 856
ORGANIZER;CN="Edlio Calendar":MAILTO:noreply@ahs.alcoaschools.net
DTSTAMP:20260421T072818Z
END:VEVENT
BEGIN:VEVENT
UID:11677857@ahs.alcoaschools.net#20260421
SEQUENCE:0
CREATED:20260417T164820Z
LAST-MODIFIED:20260417T164820Z
DTSTART;TZID=US/Eastern:20260421T235800
DTEND;TZID=US/Eastern:20260421T235900
SUMMARY:Assignment: Skit Project
URL:https://ahs.alcoaschools.net/apps/classes/1063504/assignments/#hw-11677
 857
ORGANIZER;CN="Edlio Calendar":MAILTO:noreply@ahs.alcoaschools.net
DTSTAMP:20260421T072818Z
END:VEVENT
BEGIN:VEVENT
UID:11677858@ahs.alcoaschools.net#20260421
SEQUENCE:0
CREATED:20260417T164821Z
LAST-MODIFIED:20260417T164821Z
DTSTART;TZID=US/Eastern:20260421T235800
DTEND;TZID=US/Eastern:20260421T235900
SUMMARY:Assignment: Skit Project
URL:https://ahs.alcoaschools.net/apps/classes/1063504/assignments/#hw-11677
 858
ORGANIZER;CN="Edlio Calendar":MAILTO:noreply@ahs.alcoaschools.net
DTSTAMP:20260421T072818Z
END:VEVENT
BEGIN:VEVENT
UID:11677859@ahs.alcoaschools.net#20260421
SEQUENCE:0
CREATED:20260417T164821Z
LAST-MODIFIED:20260417T164821Z
DTSTART;TZID=US/Eastern:20260421T235800
DTEND;TZID=US/Eastern:20260421T235900
SUMMARY:Assignment: Skit Project
URL:https://ahs.alcoaschools.net/apps/classes/1063504/assignments/#hw-11677
 859
ORGANIZER;CN="Edlio Calendar":MAILTO:noreply@ahs.alcoaschools.net
DTSTAMP:20260421T072818Z
END:VEVENT
END:VCALENDAR
