BEGIN:VCALENDAR
VERSION:2.0
PRODID:-//Edlio Inc//Edlio Calendar//EN
CALSCALE:GREGORIAN
METHOD:PUBLISH
X-WR-CALNAME:Precalculus SDC Sp26-3rd Block - Alcoa High School
X-ORIGINAL-URL:https://ahs.alcoaschools.net
X-WR-CALDESC:Events calendar for ahs.alcoaschools.net
X-WR-TIMEZONE:US/Eastern
REFRESH-INTERVAL;VALUE=DURATION:PT1H
X-Robots-Tag:noindex
X-PUBLISHED-TTL:PT1H
BEGIN:VTIMEZONE
TZID:US/Eastern
BEGIN:STANDARD
TZOFFSETFROM:-0400
TZOFFSETTO:-0500
DTSTART:20071104T020000
RRULE:FREQ=YEARLY;BYMONTH=11;BYDAY=1SU
END:STANDARD
BEGIN:DAYLIGHT
TZOFFSETFROM:-0500
TZOFFSETTO:-0400
DTSTART:20070311T020000
RRULE:FREQ=YEARLY;BYMONTH=3;BYDAY=2SU
END:DAYLIGHT
END:VTIMEZONE
BEGIN:VTIMEZONE
TZID:US/East-Indiana
BEGIN:STANDARD
TZOFFSETFROM:-0500
TZOFFSETTO:-0500
DTSTART:19701025T020000
END:STANDARD
END:VTIMEZONE
BEGIN:VTIMEZONE
TZID:US/Eastern
BEGIN:STANDARD
TZOFFSETFROM:-0400
TZOFFSETTO:-0500
DTSTART:19701025T020000
RRULE:FREQ=YEARLY;BYMONTH=10;BYDAY=-1SU;UNTIL=20070311T020000
END:STANDARD
BEGIN:STANDARD
TZOFFSETFROM:-0400
TZOFFSETTO:-0500
DTSTART:20071104T020000
RRULE:FREQ=YEARLY;BYMONTH=11;BYDAY=1SU
END:STANDARD
BEGIN:DAYLIGHT
TZOFFSETFROM:-0500
TZOFFSETTO:-0400
DTSTART:19870405T020000
RRULE:FREQ=YEARLY;BYMONTH=4;BYDAY=1SU;UNTIL=20061029T020000
END:DAYLIGHT
BEGIN:DAYLIGHT
TZOFFSETFROM:-0500
TZOFFSETTO:-0400
DTSTART:20070311T020000
RRULE:FREQ=YEARLY;BYMONTH=3;BYDAY=2SU
END:DAYLIGHT
END:VTIMEZONE
BEGIN:VTIMEZONE
TZID:US/Michigan
BEGIN:STANDARD
TZOFFSETFROM:-0400
TZOFFSETTO:-0500
DTSTART:19701025T020000
RRULE:FREQ=YEARLY;BYMONTH=10;BYDAY=-1SU;UNTIL=20070311T020000
END:STANDARD
BEGIN:STANDARD
TZOFFSETFROM:-0400
TZOFFSETTO:-0500
DTSTART:20071104T020000
RRULE:FREQ=YEARLY;BYMONTH=11;BYDAY=1SU
END:STANDARD
BEGIN:DAYLIGHT
TZOFFSETFROM:-0500
TZOFFSETTO:-0400
DTSTART:19870405T020000
RRULE:FREQ=YEARLY;BYMONTH=4;BYDAY=1SU;UNTIL=20061029T020000
END:DAYLIGHT
BEGIN:DAYLIGHT
TZOFFSETFROM:-0500
TZOFFSETTO:-0400
DTSTART:20070311T020000
RRULE:FREQ=YEARLY;BYMONTH=3;BYDAY=2SU
END:DAYLIGHT
END:VTIMEZONE
BEGIN:VTIMEZONE
TZID:US/Central
BEGIN:STANDARD
TZOFFSETFROM:-0500
TZOFFSETTO:-0600
DTSTART:19701025T020000
RRULE:FREQ=YEARLY;BYMONTH=10;BYDAY=-1SU;UNTIL=20070311T020000
END:STANDARD
BEGIN:STANDARD
TZOFFSETFROM:-0500
TZOFFSETTO:-0600
DTSTART:20071104T020000
RRULE:FREQ=YEARLY;BYMONTH=11;BYDAY=1SU
END:STANDARD
BEGIN:DAYLIGHT
TZOFFSETFROM:-0600
TZOFFSETTO:-0500
DTSTART:19870405T020000
RRULE:FREQ=YEARLY;BYMONTH=4;BYDAY=1SU;UNTIL=20061029T020000
END:DAYLIGHT
BEGIN:DAYLIGHT
TZOFFSETFROM:-0600
TZOFFSETTO:-0500
DTSTART:20070311T020000
RRULE:FREQ=YEARLY;BYMONTH=3;BYDAY=2SU
END:DAYLIGHT
END:VTIMEZONE
BEGIN:VTIMEZONE
TZID:US/Mountain
BEGIN:STANDARD
TZOFFSETFROM:-0600
TZOFFSETTO:-0700
DTSTART:19701025T020000
RRULE:FREQ=YEARLY;BYMONTH=10;BYDAY=-1SU;UNTIL=20070311T020000
END:STANDARD
BEGIN:STANDARD
TZOFFSETFROM:-0600
TZOFFSETTO:-0700
DTSTART:20071104T020000
RRULE:FREQ=YEARLY;BYMONTH=11;BYDAY=1SU
END:STANDARD
BEGIN:DAYLIGHT
TZOFFSETFROM:-0700
TZOFFSETTO:-0600
DTSTART:19870405T020000
RRULE:FREQ=YEARLY;BYMONTH=4;BYDAY=1SU;UNTIL=20061029T020000
END:DAYLIGHT
BEGIN:DAYLIGHT
TZOFFSETFROM:-0700
TZOFFSETTO:-0600
DTSTART:20070311T020000
RRULE:FREQ=YEARLY;BYMONTH=3;BYDAY=2SU
END:DAYLIGHT
END:VTIMEZONE
BEGIN:VTIMEZONE
TZID:US/Arizona
BEGIN:STANDARD
TZOFFSETFROM:-0700
TZOFFSETTO:-0700
DTSTART:19701025T020000
END:STANDARD
END:VTIMEZONE
BEGIN:VTIMEZONE
TZID:US/Pacific
BEGIN:STANDARD
TZOFFSETFROM:-0700
TZOFFSETTO:-0800
DTSTART:19701025T020000
RRULE:FREQ=YEARLY;BYMONTH=10;BYDAY=-1SU;UNTIL=20070311T020000
END:STANDARD
BEGIN:STANDARD
TZOFFSETFROM:-0700
TZOFFSETTO:-0800
DTSTART:20071104T020000
RRULE:FREQ=YEARLY;BYMONTH=11;BYDAY=1SU
END:STANDARD
BEGIN:DAYLIGHT
TZOFFSETFROM:-0800
TZOFFSETTO:-0700
DTSTART:19870405T020000
RRULE:FREQ=YEARLY;BYMONTH=4;BYDAY=1SU;UNTIL=20061029T020000
END:DAYLIGHT
BEGIN:DAYLIGHT
TZOFFSETFROM:-0800
TZOFFSETTO:-0700
DTSTART:20070311T020000
RRULE:FREQ=YEARLY;BYMONTH=3;BYDAY=2SU
END:DAYLIGHT
END:VTIMEZONE
BEGIN:VTIMEZONE
TZID:US/Alaska
BEGIN:STANDARD
TZOFFSETFROM:-0800
TZOFFSETTO:-0900
DTSTART:19701025T020000
RRULE:FREQ=YEARLY;BYMONTH=10;BYDAY=-1SU;UNTIL=20070311T020000
END:STANDARD
BEGIN:STANDARD
TZOFFSETFROM:-0800
TZOFFSETTO:-0900
DTSTART:20071104T020000
RRULE:FREQ=YEARLY;BYMONTH=11;BYDAY=1SU
END:STANDARD
BEGIN:DAYLIGHT
TZOFFSETFROM:-0900
TZOFFSETTO:-0800
DTSTART:19870405T020000
RRULE:FREQ=YEARLY;BYMONTH=4;BYDAY=1SU;UNTIL=20061029T020000
END:DAYLIGHT
BEGIN:DAYLIGHT
TZOFFSETFROM:-0900
TZOFFSETTO:-0800
DTSTART:20070311T020000
RRULE:FREQ=YEARLY;BYMONTH=3;BYDAY=2SU
END:DAYLIGHT
END:VTIMEZONE
BEGIN:VTIMEZONE
TZID:US/Hawaii
BEGIN:STANDARD
TZOFFSETFROM:-1000
TZOFFSETTO:-1000
DTSTART:19701025T020000
END:STANDARD
END:VTIMEZONE
BEGIN:VTIMEZONE
TZID:US/Aleutian
BEGIN:STANDARD
TZOFFSETFROM:-1000
TZOFFSETTO:-1000
DTSTART:19701025T020000
END:STANDARD
END:VTIMEZONE
BEGIN:VTIMEZONE
TZID:US/Samoa
BEGIN:STANDARD
TZOFFSETFROM:-1100
TZOFFSETTO:-1100
DTSTART:19701025T020000
END:STANDARD
END:VTIMEZONE
BEGIN:VEVENT
UID:11794018@ahs.alcoaschools.net#20260424
SEQUENCE:0
CREATED:20260423T165037Z
LAST-MODIFIED:20260423T165037Z
DTSTART;TZID=US/Eastern:20260424T114400
DTEND;TZID=US/Eastern:20260424T114500
SUMMARY:Assignment: Thurs: 7.2 Addition & Subtraction Identities
DESCRIPTION:1. Practice Worksheet<br>2. LESSON: 7.2 Addition and Subtractio
 n Identities<br>3. DO: MyOpenMath<br>**Finish Practice Challenge Exam**\n<
 a href=' https://ahs.alcoaschools.net/apps/classes/1063519/assignments/#hw
 -11794018'>Read more</a>
URL:https://ahs.alcoaschools.net/apps/classes/1063519/assignments/#hw-11794
 018
ORGANIZER;CN="Edlio Calendar":MAILTO:noreply@ahs.alcoaschools.net
DTSTAMP:20260424T033940Z
END:VEVENT
BEGIN:VEVENT
UID:11794019@ahs.alcoaschools.net#20260424
SEQUENCE:0
CREATED:20260423T165038Z
LAST-MODIFIED:20260423T165038Z
DTSTART;TZID=US/Eastern:20260424T114400
DTEND;TZID=US/Eastern:20260424T114500
SUMMARY:Assignment: Thurs: 7.2 Addition & Subtraction Identities
DESCRIPTION:1. Practice Worksheet<br>2. LESSON: 7.2 Addition and Subtractio
 n Identities<br>3. DO: MyOpenMath<br>**Finish Practice Challenge Exam**\n<
 a href=' https://ahs.alcoaschools.net/apps/classes/1063519/assignments/#hw
 -11794019'>Read more</a>
URL:https://ahs.alcoaschools.net/apps/classes/1063519/assignments/#hw-11794
 019
ORGANIZER;CN="Edlio Calendar":MAILTO:noreply@ahs.alcoaschools.net
DTSTAMP:20260424T033940Z
END:VEVENT
BEGIN:VEVENT
UID:11794020@ahs.alcoaschools.net#20260424
SEQUENCE:0
CREATED:20260423T165038Z
LAST-MODIFIED:20260423T165038Z
DTSTART;TZID=US/Eastern:20260424T114400
DTEND;TZID=US/Eastern:20260424T114500
SUMMARY:Assignment: Thurs: 7.2 Addition & Subtraction Identities
DESCRIPTION:1. Practice Worksheet<br>2. LESSON: 7.2 Addition and Subtractio
 n Identities<br>3. DO: MyOpenMath<br>**Finish Practice Challenge Exam**\n<
 a href=' https://ahs.alcoaschools.net/apps/classes/1063519/assignments/#hw
 -11794020'>Read more</a>
URL:https://ahs.alcoaschools.net/apps/classes/1063519/assignments/#hw-11794
 020
ORGANIZER;CN="Edlio Calendar":MAILTO:noreply@ahs.alcoaschools.net
DTSTAMP:20260424T033940Z
END:VEVENT
BEGIN:VEVENT
UID:11770348@ahs.alcoaschools.net#20260423
SEQUENCE:0
CREATED:20260421T164513Z
LAST-MODIFIED:20260421T164513Z
DTSTART;TZID=US/Eastern:20260423T114400
DTEND;TZID=US/Eastern:20260423T114500
SUMMARY:Assignment: Tues: 7.1 Solve Trig Equations with Identities
DESCRIPTION:1. LESSON: 7.1 Solve Trig Equations with Identities<br>2. Pract
 ice Worksheet<br>3. DO: MyOpenMath\n<a href=' https://ahs.alcoaschools.net
 /apps/classes/1063519/assignments/#hw-11770348'>Read more</a>
URL:https://ahs.alcoaschools.net/apps/classes/1063519/assignments/#hw-11770
 348
ORGANIZER;CN="Edlio Calendar":MAILTO:noreply@ahs.alcoaschools.net
DTSTAMP:20260424T033940Z
END:VEVENT
BEGIN:VEVENT
UID:11770349@ahs.alcoaschools.net#20260423
SEQUENCE:0
CREATED:20260421T164513Z
LAST-MODIFIED:20260421T164513Z
DTSTART;TZID=US/Eastern:20260423T114400
DTEND;TZID=US/Eastern:20260423T114500
SUMMARY:Assignment: Tues: 7.1 Solve Trig Equations with Identities
DESCRIPTION:1. LESSON: 7.1 Solve Trig Equations with Identities<br>2. Pract
 ice Worksheet<br>3. DO: MyOpenMath\n<a href=' https://ahs.alcoaschools.net
 /apps/classes/1063519/assignments/#hw-11770349'>Read more</a>
URL:https://ahs.alcoaschools.net/apps/classes/1063519/assignments/#hw-11770
 349
ORGANIZER;CN="Edlio Calendar":MAILTO:noreply@ahs.alcoaschools.net
DTSTAMP:20260424T033940Z
END:VEVENT
BEGIN:VEVENT
UID:11770351@ahs.alcoaschools.net#20260423
SEQUENCE:0
CREATED:20260421T164513Z
LAST-MODIFIED:20260421T164513Z
DTSTART;TZID=US/Eastern:20260423T114400
DTEND;TZID=US/Eastern:20260423T114500
SUMMARY:Assignment: Tues: 7.1 Solve Trig Equations with Identities
DESCRIPTION:1. LESSON: 7.1 Solve Trig Equations with Identities<br>2. Pract
 ice Worksheet<br>3. DO: MyOpenMath\n<a href=' https://ahs.alcoaschools.net
 /apps/classes/1063519/assignments/#hw-11770351'>Read more</a>
URL:https://ahs.alcoaschools.net/apps/classes/1063519/assignments/#hw-11770
 351
ORGANIZER;CN="Edlio Calendar":MAILTO:noreply@ahs.alcoaschools.net
DTSTAMP:20260424T033940Z
END:VEVENT
BEGIN:VEVENT
UID:11770353@ahs.alcoaschools.net#20260423
SEQUENCE:0
CREATED:20260421T164513Z
LAST-MODIFIED:20260421T164513Z
DTSTART;TZID=US/Eastern:20260423T114400
DTEND;TZID=US/Eastern:20260423T114500
SUMMARY:Assignment: Wed: SDC Challenge Exam Review #2
DESCRIPTION:DO: DeltaMath\n<a href=' https://ahs.alcoaschools.net/apps/clas
 ses/1063519/assignments/#hw-11770353'>Read more</a>
URL:https://ahs.alcoaschools.net/apps/classes/1063519/assignments/#hw-11770
 353
ORGANIZER;CN="Edlio Calendar":MAILTO:noreply@ahs.alcoaschools.net
DTSTAMP:20260424T033940Z
END:VEVENT
BEGIN:VEVENT
UID:11770355@ahs.alcoaschools.net#20260423
SEQUENCE:0
CREATED:20260421T164513Z
LAST-MODIFIED:20260421T164513Z
DTSTART;TZID=US/Eastern:20260423T114400
DTEND;TZID=US/Eastern:20260423T114500
SUMMARY:Assignment: Wed: SDC Challenge Exam Review #2
DESCRIPTION:DO: DeltaMath\n<a href=' https://ahs.alcoaschools.net/apps/clas
 ses/1063519/assignments/#hw-11770355'>Read more</a>
URL:https://ahs.alcoaschools.net/apps/classes/1063519/assignments/#hw-11770
 355
ORGANIZER;CN="Edlio Calendar":MAILTO:noreply@ahs.alcoaschools.net
DTSTAMP:20260424T033940Z
END:VEVENT
BEGIN:VEVENT
UID:11770356@ahs.alcoaschools.net#20260423
SEQUENCE:0
CREATED:20260421T164513Z
LAST-MODIFIED:20260421T164513Z
DTSTART;TZID=US/Eastern:20260423T114400
DTEND;TZID=US/Eastern:20260423T114500
SUMMARY:Assignment: Wed: SDC Challenge Exam Review #2
DESCRIPTION:DO: DeltaMath\n<a href=' https://ahs.alcoaschools.net/apps/clas
 ses/1063519/assignments/#hw-11770356'>Read more</a>
URL:https://ahs.alcoaschools.net/apps/classes/1063519/assignments/#hw-11770
 356
ORGANIZER;CN="Edlio Calendar":MAILTO:noreply@ahs.alcoaschools.net
DTSTAMP:20260424T033940Z
END:VEVENT
END:VCALENDAR
