BEGIN:VCALENDAR
VERSION:2.0
PRODID:-//Edlio Inc//Edlio Calendar//EN
CALSCALE:GREGORIAN
METHOD:PUBLISH
X-WR-CALNAME:Algebra 1 CP (4) - Alcoa High School
X-ORIGINAL-URL:https://ahs.alcoaschools.net
X-WR-CALDESC:Events calendar for ahs.alcoaschools.net
X-WR-TIMEZONE:US/Eastern
REFRESH-INTERVAL;VALUE=DURATION:PT1H
X-Robots-Tag:noindex
X-PUBLISHED-TTL:PT1H
BEGIN:VTIMEZONE
TZID:US/Eastern
BEGIN:STANDARD
TZOFFSETFROM:-0400
TZOFFSETTO:-0500
DTSTART:20071104T020000
RRULE:FREQ=YEARLY;BYMONTH=11;BYDAY=1SU
END:STANDARD
BEGIN:DAYLIGHT
TZOFFSETFROM:-0500
TZOFFSETTO:-0400
DTSTART:20070311T020000
RRULE:FREQ=YEARLY;BYMONTH=3;BYDAY=2SU
END:DAYLIGHT
END:VTIMEZONE
BEGIN:VTIMEZONE
TZID:US/East-Indiana
BEGIN:STANDARD
TZOFFSETFROM:-0500
TZOFFSETTO:-0500
DTSTART:19701025T020000
END:STANDARD
END:VTIMEZONE
BEGIN:VTIMEZONE
TZID:US/Eastern
BEGIN:STANDARD
TZOFFSETFROM:-0400
TZOFFSETTO:-0500
DTSTART:19701025T020000
RRULE:FREQ=YEARLY;BYMONTH=10;BYDAY=-1SU;UNTIL=20070311T020000
END:STANDARD
BEGIN:STANDARD
TZOFFSETFROM:-0400
TZOFFSETTO:-0500
DTSTART:20071104T020000
RRULE:FREQ=YEARLY;BYMONTH=11;BYDAY=1SU
END:STANDARD
BEGIN:DAYLIGHT
TZOFFSETFROM:-0500
TZOFFSETTO:-0400
DTSTART:19870405T020000
RRULE:FREQ=YEARLY;BYMONTH=4;BYDAY=1SU;UNTIL=20061029T020000
END:DAYLIGHT
BEGIN:DAYLIGHT
TZOFFSETFROM:-0500
TZOFFSETTO:-0400
DTSTART:20070311T020000
RRULE:FREQ=YEARLY;BYMONTH=3;BYDAY=2SU
END:DAYLIGHT
END:VTIMEZONE
BEGIN:VTIMEZONE
TZID:US/Michigan
BEGIN:STANDARD
TZOFFSETFROM:-0400
TZOFFSETTO:-0500
DTSTART:19701025T020000
RRULE:FREQ=YEARLY;BYMONTH=10;BYDAY=-1SU;UNTIL=20070311T020000
END:STANDARD
BEGIN:STANDARD
TZOFFSETFROM:-0400
TZOFFSETTO:-0500
DTSTART:20071104T020000
RRULE:FREQ=YEARLY;BYMONTH=11;BYDAY=1SU
END:STANDARD
BEGIN:DAYLIGHT
TZOFFSETFROM:-0500
TZOFFSETTO:-0400
DTSTART:19870405T020000
RRULE:FREQ=YEARLY;BYMONTH=4;BYDAY=1SU;UNTIL=20061029T020000
END:DAYLIGHT
BEGIN:DAYLIGHT
TZOFFSETFROM:-0500
TZOFFSETTO:-0400
DTSTART:20070311T020000
RRULE:FREQ=YEARLY;BYMONTH=3;BYDAY=2SU
END:DAYLIGHT
END:VTIMEZONE
BEGIN:VTIMEZONE
TZID:US/Central
BEGIN:STANDARD
TZOFFSETFROM:-0500
TZOFFSETTO:-0600
DTSTART:19701025T020000
RRULE:FREQ=YEARLY;BYMONTH=10;BYDAY=-1SU;UNTIL=20070311T020000
END:STANDARD
BEGIN:STANDARD
TZOFFSETFROM:-0500
TZOFFSETTO:-0600
DTSTART:20071104T020000
RRULE:FREQ=YEARLY;BYMONTH=11;BYDAY=1SU
END:STANDARD
BEGIN:DAYLIGHT
TZOFFSETFROM:-0600
TZOFFSETTO:-0500
DTSTART:19870405T020000
RRULE:FREQ=YEARLY;BYMONTH=4;BYDAY=1SU;UNTIL=20061029T020000
END:DAYLIGHT
BEGIN:DAYLIGHT
TZOFFSETFROM:-0600
TZOFFSETTO:-0500
DTSTART:20070311T020000
RRULE:FREQ=YEARLY;BYMONTH=3;BYDAY=2SU
END:DAYLIGHT
END:VTIMEZONE
BEGIN:VTIMEZONE
TZID:US/Mountain
BEGIN:STANDARD
TZOFFSETFROM:-0600
TZOFFSETTO:-0700
DTSTART:19701025T020000
RRULE:FREQ=YEARLY;BYMONTH=10;BYDAY=-1SU;UNTIL=20070311T020000
END:STANDARD
BEGIN:STANDARD
TZOFFSETFROM:-0600
TZOFFSETTO:-0700
DTSTART:20071104T020000
RRULE:FREQ=YEARLY;BYMONTH=11;BYDAY=1SU
END:STANDARD
BEGIN:DAYLIGHT
TZOFFSETFROM:-0700
TZOFFSETTO:-0600
DTSTART:19870405T020000
RRULE:FREQ=YEARLY;BYMONTH=4;BYDAY=1SU;UNTIL=20061029T020000
END:DAYLIGHT
BEGIN:DAYLIGHT
TZOFFSETFROM:-0700
TZOFFSETTO:-0600
DTSTART:20070311T020000
RRULE:FREQ=YEARLY;BYMONTH=3;BYDAY=2SU
END:DAYLIGHT
END:VTIMEZONE
BEGIN:VTIMEZONE
TZID:US/Arizona
BEGIN:STANDARD
TZOFFSETFROM:-0700
TZOFFSETTO:-0700
DTSTART:19701025T020000
END:STANDARD
END:VTIMEZONE
BEGIN:VTIMEZONE
TZID:US/Pacific
BEGIN:STANDARD
TZOFFSETFROM:-0700
TZOFFSETTO:-0800
DTSTART:19701025T020000
RRULE:FREQ=YEARLY;BYMONTH=10;BYDAY=-1SU;UNTIL=20070311T020000
END:STANDARD
BEGIN:STANDARD
TZOFFSETFROM:-0700
TZOFFSETTO:-0800
DTSTART:20071104T020000
RRULE:FREQ=YEARLY;BYMONTH=11;BYDAY=1SU
END:STANDARD
BEGIN:DAYLIGHT
TZOFFSETFROM:-0800
TZOFFSETTO:-0700
DTSTART:19870405T020000
RRULE:FREQ=YEARLY;BYMONTH=4;BYDAY=1SU;UNTIL=20061029T020000
END:DAYLIGHT
BEGIN:DAYLIGHT
TZOFFSETFROM:-0800
TZOFFSETTO:-0700
DTSTART:20070311T020000
RRULE:FREQ=YEARLY;BYMONTH=3;BYDAY=2SU
END:DAYLIGHT
END:VTIMEZONE
BEGIN:VTIMEZONE
TZID:US/Alaska
BEGIN:STANDARD
TZOFFSETFROM:-0800
TZOFFSETTO:-0900
DTSTART:19701025T020000
RRULE:FREQ=YEARLY;BYMONTH=10;BYDAY=-1SU;UNTIL=20070311T020000
END:STANDARD
BEGIN:STANDARD
TZOFFSETFROM:-0800
TZOFFSETTO:-0900
DTSTART:20071104T020000
RRULE:FREQ=YEARLY;BYMONTH=11;BYDAY=1SU
END:STANDARD
BEGIN:DAYLIGHT
TZOFFSETFROM:-0900
TZOFFSETTO:-0800
DTSTART:19870405T020000
RRULE:FREQ=YEARLY;BYMONTH=4;BYDAY=1SU;UNTIL=20061029T020000
END:DAYLIGHT
BEGIN:DAYLIGHT
TZOFFSETFROM:-0900
TZOFFSETTO:-0800
DTSTART:20070311T020000
RRULE:FREQ=YEARLY;BYMONTH=3;BYDAY=2SU
END:DAYLIGHT
END:VTIMEZONE
BEGIN:VTIMEZONE
TZID:US/Hawaii
BEGIN:STANDARD
TZOFFSETFROM:-1000
TZOFFSETTO:-1000
DTSTART:19701025T020000
END:STANDARD
END:VTIMEZONE
BEGIN:VTIMEZONE
TZID:US/Aleutian
BEGIN:STANDARD
TZOFFSETFROM:-1000
TZOFFSETTO:-1000
DTSTART:19701025T020000
END:STANDARD
END:VTIMEZONE
BEGIN:VTIMEZONE
TZID:US/Samoa
BEGIN:STANDARD
TZOFFSETFROM:-1100
TZOFFSETTO:-1100
DTSTART:19701025T020000
END:STANDARD
END:VTIMEZONE
BEGIN:VEVENT
UID:11745057@ahs.alcoaschools.net#20260428
SEQUENCE:0
CREATED:20260420T104420Z
LAST-MODIFIED:20260420T104420Z
DTSTART;TZID=US/Eastern:20260428T075900
DTEND;TZID=US/Eastern:20260428T080000
SUMMARY:Assignment: Final EOC Review
DESCRIPTION:Complete the assignment on Delta Math. \n<a href=' https://ahs.
 alcoaschools.net/apps/classes/1063534/assignments/#hw-11745057'>Read more<
 /a>
URL:https://ahs.alcoaschools.net/apps/classes/1063534/assignments/#hw-11745
 057
ORGANIZER;CN="Edlio Calendar":MAILTO:noreply@ahs.alcoaschools.net
DTSTAMP:20260424T033941Z
END:VEVENT
BEGIN:VEVENT
UID:11745058@ahs.alcoaschools.net#20260428
SEQUENCE:0
CREATED:20260420T104420Z
LAST-MODIFIED:20260420T104420Z
DTSTART;TZID=US/Eastern:20260428T075900
DTEND;TZID=US/Eastern:20260428T080000
SUMMARY:Assignment: Final EOC Review
DESCRIPTION:Complete the assignment on Delta Math. \n<a href=' https://ahs.
 alcoaschools.net/apps/classes/1063534/assignments/#hw-11745058'>Read more<
 /a>
URL:https://ahs.alcoaschools.net/apps/classes/1063534/assignments/#hw-11745
 058
ORGANIZER;CN="Edlio Calendar":MAILTO:noreply@ahs.alcoaschools.net
DTSTAMP:20260424T033941Z
END:VEVENT
BEGIN:VEVENT
UID:11470755@ahs.alcoaschools.net#20260515
SEQUENCE:0
CREATED:20260406T134359Z
LAST-MODIFIED:20260406T134359Z
DTSTART;TZID=US/Eastern:20260515T075900
DTEND;TZID=US/Eastern:20260515T080000
SUMMARY:Assignment: STATS Calc
URL:https://ahs.alcoaschools.net/apps/classes/1063534/assignments/#hw-11470
 755
ORGANIZER;CN="Edlio Calendar":MAILTO:noreply@ahs.alcoaschools.net
DTSTAMP:20260424T033941Z
END:VEVENT
BEGIN:VEVENT
UID:11470756@ahs.alcoaschools.net#20260515
SEQUENCE:0
CREATED:20260406T134359Z
LAST-MODIFIED:20260406T134359Z
DTSTART;TZID=US/Eastern:20260515T075900
DTEND;TZID=US/Eastern:20260515T080000
SUMMARY:Assignment: STATS Calc
URL:https://ahs.alcoaschools.net/apps/classes/1063534/assignments/#hw-11470
 756
ORGANIZER;CN="Edlio Calendar":MAILTO:noreply@ahs.alcoaschools.net
DTSTAMP:20260424T033941Z
END:VEVENT
BEGIN:VEVENT
UID:11470757@ahs.alcoaschools.net#20260515
SEQUENCE:0
CREATED:20260406T134359Z
LAST-MODIFIED:20260406T134359Z
DTSTART;TZID=US/Eastern:20260515T075900
DTEND;TZID=US/Eastern:20260515T080000
SUMMARY:Assignment: STATS Calc
URL:https://ahs.alcoaschools.net/apps/classes/1063534/assignments/#hw-11470
 757
ORGANIZER;CN="Edlio Calendar":MAILTO:noreply@ahs.alcoaschools.net
DTSTAMP:20260424T033941Z
END:VEVENT
BEGIN:VEVENT
UID:11470758@ahs.alcoaschools.net#20260515
SEQUENCE:0
CREATED:20260406T134359Z
LAST-MODIFIED:20260406T134359Z
DTSTART;TZID=US/Eastern:20260515T075900
DTEND;TZID=US/Eastern:20260515T080000
SUMMARY:Assignment: STATS Calc
URL:https://ahs.alcoaschools.net/apps/classes/1063534/assignments/#hw-11470
 758
ORGANIZER;CN="Edlio Calendar":MAILTO:noreply@ahs.alcoaschools.net
DTSTAMP:20260424T033941Z
END:VEVENT
BEGIN:VEVENT
UID:11794009@ahs.alcoaschools.net#20260423
SEQUENCE:0
CREATED:20260423T165025Z
LAST-MODIFIED:20260423T165025Z
DTSTART;TZID=US/Eastern:20260423T151400
DTEND;TZID=US/Eastern:20260423T151500
SUMMARY:Assignment: Last Practice EOC (Calculator)
URL:https://ahs.alcoaschools.net/apps/classes/1063534/assignments/#hw-11794
 009
ORGANIZER;CN="Edlio Calendar":MAILTO:noreply@ahs.alcoaschools.net
DTSTAMP:20260424T033941Z
END:VEVENT
BEGIN:VEVENT
UID:11794010@ahs.alcoaschools.net#20260423
SEQUENCE:0
CREATED:20260423T165025Z
LAST-MODIFIED:20260423T165025Z
DTSTART;TZID=US/Eastern:20260423T151400
DTEND;TZID=US/Eastern:20260423T151500
SUMMARY:Assignment: Last Practice EOC (Calculator)
URL:https://ahs.alcoaschools.net/apps/classes/1063534/assignments/#hw-11794
 010
ORGANIZER;CN="Edlio Calendar":MAILTO:noreply@ahs.alcoaschools.net
DTSTAMP:20260424T033941Z
END:VEVENT
BEGIN:VEVENT
UID:11794011@ahs.alcoaschools.net#20260423
SEQUENCE:0
CREATED:20260423T165025Z
LAST-MODIFIED:20260423T165025Z
DTSTART;TZID=US/Eastern:20260423T151400
DTEND;TZID=US/Eastern:20260423T151500
SUMMARY:Assignment: Last Practice EOC (Calculator)
URL:https://ahs.alcoaschools.net/apps/classes/1063534/assignments/#hw-11794
 011
ORGANIZER;CN="Edlio Calendar":MAILTO:noreply@ahs.alcoaschools.net
DTSTAMP:20260424T033941Z
END:VEVENT
BEGIN:VEVENT
UID:11794012@ahs.alcoaschools.net#20260423
SEQUENCE:0
CREATED:20260423T165025Z
LAST-MODIFIED:20260423T165025Z
DTSTART;TZID=US/Eastern:20260423T151400
DTEND;TZID=US/Eastern:20260423T151500
SUMMARY:Assignment: Last Practice EOC (Non-Calculator)
URL:https://ahs.alcoaschools.net/apps/classes/1063534/assignments/#hw-11794
 012
ORGANIZER;CN="Edlio Calendar":MAILTO:noreply@ahs.alcoaschools.net
DTSTAMP:20260424T033941Z
END:VEVENT
BEGIN:VEVENT
UID:11794013@ahs.alcoaschools.net#20260423
SEQUENCE:0
CREATED:20260423T165025Z
LAST-MODIFIED:20260423T165025Z
DTSTART;TZID=US/Eastern:20260423T151400
DTEND;TZID=US/Eastern:20260423T151500
SUMMARY:Assignment: Last Practice EOC (Non-Calculator)
URL:https://ahs.alcoaschools.net/apps/classes/1063534/assignments/#hw-11794
 013
ORGANIZER;CN="Edlio Calendar":MAILTO:noreply@ahs.alcoaschools.net
DTSTAMP:20260424T033941Z
END:VEVENT
BEGIN:VEVENT
UID:11794014@ahs.alcoaschools.net#20260423
SEQUENCE:0
CREATED:20260423T165025Z
LAST-MODIFIED:20260423T165025Z
DTSTART;TZID=US/Eastern:20260423T151400
DTEND;TZID=US/Eastern:20260423T151500
SUMMARY:Assignment: Last Practice EOC (Non-Calculator)
URL:https://ahs.alcoaschools.net/apps/classes/1063534/assignments/#hw-11794
 014
ORGANIZER;CN="Edlio Calendar":MAILTO:noreply@ahs.alcoaschools.net
DTSTAMP:20260424T033941Z
END:VEVENT
BEGIN:VEVENT
UID:11793399@ahs.alcoaschools.net#20260424
SEQUENCE:0
CREATED:20260423T104925Z
LAST-MODIFIED:20260423T104925Z
DTSTART;TZID=US/Eastern:20260424T151400
DTEND;TZID=US/Eastern:20260424T151500
SUMMARY:Assignment: Review Packets 4-6 Answers
DESCRIPTION:Check your answers using the attached document.\n<a href=' http
 s://ahs.alcoaschools.net/apps/classes/1063534/assignments/#hw-11793399'>Re
 ad more</a>
URL:https://ahs.alcoaschools.net/apps/classes/1063534/assignments/#hw-11793
 399
ORGANIZER;CN="Edlio Calendar":MAILTO:noreply@ahs.alcoaschools.net
DTSTAMP:20260424T033941Z
END:VEVENT
BEGIN:VEVENT
UID:11793400@ahs.alcoaschools.net#20260424
SEQUENCE:0
CREATED:20260423T104925Z
LAST-MODIFIED:20260423T104925Z
DTSTART;TZID=US/Eastern:20260424T151400
DTEND;TZID=US/Eastern:20260424T151500
SUMMARY:Assignment: Review Packets 4-6 Answers
DESCRIPTION:Check your answers using the attached document.\n<a href=' http
 s://ahs.alcoaschools.net/apps/classes/1063534/assignments/#hw-11793400'>Re
 ad more</a>
URL:https://ahs.alcoaschools.net/apps/classes/1063534/assignments/#hw-11793
 400
ORGANIZER;CN="Edlio Calendar":MAILTO:noreply@ahs.alcoaschools.net
DTSTAMP:20260424T033941Z
END:VEVENT
BEGIN:VEVENT
UID:11793401@ahs.alcoaschools.net#20260424
SEQUENCE:0
CREATED:20260423T104926Z
LAST-MODIFIED:20260423T104926Z
DTSTART;TZID=US/Eastern:20260424T151400
DTEND;TZID=US/Eastern:20260424T151500
SUMMARY:Assignment: Review Packets 4-6 Answers
DESCRIPTION:Check your answers using the attached document.\n<a href=' http
 s://ahs.alcoaschools.net/apps/classes/1063534/assignments/#hw-11793401'>Re
 ad more</a>
URL:https://ahs.alcoaschools.net/apps/classes/1063534/assignments/#hw-11793
 401
ORGANIZER;CN="Edlio Calendar":MAILTO:noreply@ahs.alcoaschools.net
DTSTAMP:20260424T033941Z
END:VEVENT
END:VCALENDAR
