BEGIN:VCALENDAR
VERSION:2.0
PRODID:-//Edlio Inc//Edlio Calendar//EN
CALSCALE:GREGORIAN
METHOD:PUBLISH
X-WR-CALNAME:Physics - Alcoa High School
X-ORIGINAL-URL:https://ahs.alcoaschools.net
X-WR-CALDESC:Events calendar for ahs.alcoaschools.net
X-WR-TIMEZONE:US/Eastern
REFRESH-INTERVAL;VALUE=DURATION:PT1H
X-Robots-Tag:noindex
X-PUBLISHED-TTL:PT1H
BEGIN:VTIMEZONE
TZID:US/Eastern
BEGIN:STANDARD
TZOFFSETFROM:-0400
TZOFFSETTO:-0500
DTSTART:20071104T020000
RRULE:FREQ=YEARLY;BYMONTH=11;BYDAY=1SU
END:STANDARD
BEGIN:DAYLIGHT
TZOFFSETFROM:-0500
TZOFFSETTO:-0400
DTSTART:20070311T020000
RRULE:FREQ=YEARLY;BYMONTH=3;BYDAY=2SU
END:DAYLIGHT
END:VTIMEZONE
BEGIN:VTIMEZONE
TZID:US/East-Indiana
BEGIN:STANDARD
TZOFFSETFROM:-0500
TZOFFSETTO:-0500
DTSTART:19701025T020000
END:STANDARD
END:VTIMEZONE
BEGIN:VTIMEZONE
TZID:US/Eastern
BEGIN:STANDARD
TZOFFSETFROM:-0400
TZOFFSETTO:-0500
DTSTART:19701025T020000
RRULE:FREQ=YEARLY;BYMONTH=10;BYDAY=-1SU;UNTIL=20070311T020000
END:STANDARD
BEGIN:STANDARD
TZOFFSETFROM:-0400
TZOFFSETTO:-0500
DTSTART:20071104T020000
RRULE:FREQ=YEARLY;BYMONTH=11;BYDAY=1SU
END:STANDARD
BEGIN:DAYLIGHT
TZOFFSETFROM:-0500
TZOFFSETTO:-0400
DTSTART:19870405T020000
RRULE:FREQ=YEARLY;BYMONTH=4;BYDAY=1SU;UNTIL=20061029T020000
END:DAYLIGHT
BEGIN:DAYLIGHT
TZOFFSETFROM:-0500
TZOFFSETTO:-0400
DTSTART:20070311T020000
RRULE:FREQ=YEARLY;BYMONTH=3;BYDAY=2SU
END:DAYLIGHT
END:VTIMEZONE
BEGIN:VTIMEZONE
TZID:US/Michigan
BEGIN:STANDARD
TZOFFSETFROM:-0400
TZOFFSETTO:-0500
DTSTART:19701025T020000
RRULE:FREQ=YEARLY;BYMONTH=10;BYDAY=-1SU;UNTIL=20070311T020000
END:STANDARD
BEGIN:STANDARD
TZOFFSETFROM:-0400
TZOFFSETTO:-0500
DTSTART:20071104T020000
RRULE:FREQ=YEARLY;BYMONTH=11;BYDAY=1SU
END:STANDARD
BEGIN:DAYLIGHT
TZOFFSETFROM:-0500
TZOFFSETTO:-0400
DTSTART:19870405T020000
RRULE:FREQ=YEARLY;BYMONTH=4;BYDAY=1SU;UNTIL=20061029T020000
END:DAYLIGHT
BEGIN:DAYLIGHT
TZOFFSETFROM:-0500
TZOFFSETTO:-0400
DTSTART:20070311T020000
RRULE:FREQ=YEARLY;BYMONTH=3;BYDAY=2SU
END:DAYLIGHT
END:VTIMEZONE
BEGIN:VTIMEZONE
TZID:US/Central
BEGIN:STANDARD
TZOFFSETFROM:-0500
TZOFFSETTO:-0600
DTSTART:19701025T020000
RRULE:FREQ=YEARLY;BYMONTH=10;BYDAY=-1SU;UNTIL=20070311T020000
END:STANDARD
BEGIN:STANDARD
TZOFFSETFROM:-0500
TZOFFSETTO:-0600
DTSTART:20071104T020000
RRULE:FREQ=YEARLY;BYMONTH=11;BYDAY=1SU
END:STANDARD
BEGIN:DAYLIGHT
TZOFFSETFROM:-0600
TZOFFSETTO:-0500
DTSTART:19870405T020000
RRULE:FREQ=YEARLY;BYMONTH=4;BYDAY=1SU;UNTIL=20061029T020000
END:DAYLIGHT
BEGIN:DAYLIGHT
TZOFFSETFROM:-0600
TZOFFSETTO:-0500
DTSTART:20070311T020000
RRULE:FREQ=YEARLY;BYMONTH=3;BYDAY=2SU
END:DAYLIGHT
END:VTIMEZONE
BEGIN:VTIMEZONE
TZID:US/Mountain
BEGIN:STANDARD
TZOFFSETFROM:-0600
TZOFFSETTO:-0700
DTSTART:19701025T020000
RRULE:FREQ=YEARLY;BYMONTH=10;BYDAY=-1SU;UNTIL=20070311T020000
END:STANDARD
BEGIN:STANDARD
TZOFFSETFROM:-0600
TZOFFSETTO:-0700
DTSTART:20071104T020000
RRULE:FREQ=YEARLY;BYMONTH=11;BYDAY=1SU
END:STANDARD
BEGIN:DAYLIGHT
TZOFFSETFROM:-0700
TZOFFSETTO:-0600
DTSTART:19870405T020000
RRULE:FREQ=YEARLY;BYMONTH=4;BYDAY=1SU;UNTIL=20061029T020000
END:DAYLIGHT
BEGIN:DAYLIGHT
TZOFFSETFROM:-0700
TZOFFSETTO:-0600
DTSTART:20070311T020000
RRULE:FREQ=YEARLY;BYMONTH=3;BYDAY=2SU
END:DAYLIGHT
END:VTIMEZONE
BEGIN:VTIMEZONE
TZID:US/Arizona
BEGIN:STANDARD
TZOFFSETFROM:-0700
TZOFFSETTO:-0700
DTSTART:19701025T020000
END:STANDARD
END:VTIMEZONE
BEGIN:VTIMEZONE
TZID:US/Pacific
BEGIN:STANDARD
TZOFFSETFROM:-0700
TZOFFSETTO:-0800
DTSTART:19701025T020000
RRULE:FREQ=YEARLY;BYMONTH=10;BYDAY=-1SU;UNTIL=20070311T020000
END:STANDARD
BEGIN:STANDARD
TZOFFSETFROM:-0700
TZOFFSETTO:-0800
DTSTART:20071104T020000
RRULE:FREQ=YEARLY;BYMONTH=11;BYDAY=1SU
END:STANDARD
BEGIN:DAYLIGHT
TZOFFSETFROM:-0800
TZOFFSETTO:-0700
DTSTART:19870405T020000
RRULE:FREQ=YEARLY;BYMONTH=4;BYDAY=1SU;UNTIL=20061029T020000
END:DAYLIGHT
BEGIN:DAYLIGHT
TZOFFSETFROM:-0800
TZOFFSETTO:-0700
DTSTART:20070311T020000
RRULE:FREQ=YEARLY;BYMONTH=3;BYDAY=2SU
END:DAYLIGHT
END:VTIMEZONE
BEGIN:VTIMEZONE
TZID:US/Alaska
BEGIN:STANDARD
TZOFFSETFROM:-0800
TZOFFSETTO:-0900
DTSTART:19701025T020000
RRULE:FREQ=YEARLY;BYMONTH=10;BYDAY=-1SU;UNTIL=20070311T020000
END:STANDARD
BEGIN:STANDARD
TZOFFSETFROM:-0800
TZOFFSETTO:-0900
DTSTART:20071104T020000
RRULE:FREQ=YEARLY;BYMONTH=11;BYDAY=1SU
END:STANDARD
BEGIN:DAYLIGHT
TZOFFSETFROM:-0900
TZOFFSETTO:-0800
DTSTART:19870405T020000
RRULE:FREQ=YEARLY;BYMONTH=4;BYDAY=1SU;UNTIL=20061029T020000
END:DAYLIGHT
BEGIN:DAYLIGHT
TZOFFSETFROM:-0900
TZOFFSETTO:-0800
DTSTART:20070311T020000
RRULE:FREQ=YEARLY;BYMONTH=3;BYDAY=2SU
END:DAYLIGHT
END:VTIMEZONE
BEGIN:VTIMEZONE
TZID:US/Hawaii
BEGIN:STANDARD
TZOFFSETFROM:-1000
TZOFFSETTO:-1000
DTSTART:19701025T020000
END:STANDARD
END:VTIMEZONE
BEGIN:VTIMEZONE
TZID:US/Aleutian
BEGIN:STANDARD
TZOFFSETFROM:-1000
TZOFFSETTO:-1000
DTSTART:19701025T020000
END:STANDARD
END:VTIMEZONE
BEGIN:VTIMEZONE
TZID:US/Samoa
BEGIN:STANDARD
TZOFFSETFROM:-1100
TZOFFSETTO:-1100
DTSTART:19701025T020000
END:STANDARD
END:VTIMEZONE
BEGIN:VEVENT
UID:11119906@ahs.alcoaschools.net#20270129
SEQUENCE:0
CREATED:20260303T085408Z
LAST-MODIFIED:20260303T085408Z
DTSTART;TZID=US/Eastern:20270129T075900
DTEND;TZID=US/Eastern:20270129T080000
SUMMARY:Assignment: Realize Login
DESCRIPTION:Please use the below link to connect your Google Classroom acco
 unt to your Realize Account.\n<a href=' https://ahs.alcoaschools.net/apps/
 classes/1063535/assignments/#hw-11119906'>Read more</a>
URL:https://ahs.alcoaschools.net/apps/classes/1063535/assignments/#hw-11119
 906
ORGANIZER;CN="Edlio Calendar":MAILTO:noreply@ahs.alcoaschools.net
DTSTAMP:20260423T041231Z
END:VEVENT
BEGIN:VEVENT
UID:11673030@ahs.alcoaschools.net#20260424
SEQUENCE:0
CREATED:20260417T104641Z
LAST-MODIFIED:20260417T104641Z
DTSTART;TZID=US/Eastern:20260424T075900
DTEND;TZID=US/Eastern:20260424T080000
SUMMARY:Assignment: The Perfect Wave Research
DESCRIPTION:Research information on the characteristics of ocean waves with
  regard to wave speed\, amplitude\, wavelengths\, and other wave character
 istics. Include descriptions of wave trains\, fully-developed seas\, tidal
  waves\, wave interference\, why and how waves break\, the different types
  of breakers\, \n<a href=' https://ahs.alcoaschools.net/apps/classes/10635
 35/assignments/#hw-11673030'>Read more</a>
URL:https://ahs.alcoaschools.net/apps/classes/1063535/assignments/#hw-11673
 030
ORGANIZER;CN="Edlio Calendar":MAILTO:noreply@ahs.alcoaschools.net
DTSTAMP:20260423T041231Z
END:VEVENT
BEGIN:VEVENT
UID:11673031@ahs.alcoaschools.net#20260424
SEQUENCE:0
CREATED:20260417T104641Z
LAST-MODIFIED:20260417T104641Z
DTSTART;TZID=US/Eastern:20260424T075900
DTEND;TZID=US/Eastern:20260424T080000
SUMMARY:Assignment: The Perfect Wave Research
DESCRIPTION:Research information on the characteristics of ocean waves with
  regard to wave speed\, amplitude\, wavelengths\, and other wave character
 istics. Include descriptions of wave trains\, fully-developed seas\, tidal
  waves\, wave interference\, why and how waves break\, the different types
  of breakers\, \n<a href=' https://ahs.alcoaschools.net/apps/classes/10635
 35/assignments/#hw-11673031'>Read more</a>
URL:https://ahs.alcoaschools.net/apps/classes/1063535/assignments/#hw-11673
 031
ORGANIZER;CN="Edlio Calendar":MAILTO:noreply@ahs.alcoaschools.net
DTSTAMP:20260423T041231Z
END:VEVENT
BEGIN:VEVENT
UID:11673035@ahs.alcoaschools.net#20260424
SEQUENCE:0
CREATED:20260417T104641Z
LAST-MODIFIED:20260417T104641Z
DTSTART;TZID=US/Eastern:20260424T075900
DTEND;TZID=US/Eastern:20260424T080000
SUMMARY:Assignment: The Perfect Wave Research
DESCRIPTION:Research information on the characteristics of ocean waves with
  regard to wave speed\, amplitude\, wavelengths\, and other wave character
 istics. Include descriptions of wave trains\, fully-developed seas\, tidal
  waves\, wave interference\, why and how waves break\, the different types
  of breakers\, \n<a href=' https://ahs.alcoaschools.net/apps/classes/10635
 35/assignments/#hw-11673035'>Read more</a>
URL:https://ahs.alcoaschools.net/apps/classes/1063535/assignments/#hw-11673
 035
ORGANIZER;CN="Edlio Calendar":MAILTO:noreply@ahs.alcoaschools.net
DTSTAMP:20260423T041231Z
END:VEVENT
BEGIN:VEVENT
UID:11762499@ahs.alcoaschools.net#20260423
SEQUENCE:0
CREATED:20260421T104332Z
LAST-MODIFIED:20260421T104332Z
DTSTART;TZID=US/Eastern:20260423T075900
DTEND;TZID=US/Eastern:20260423T080000
SUMMARY:Assignment: Wave Section 10
DESCRIPTION:Upload work / answers to section 10  here.\n<a href=' https://a
 hs.alcoaschools.net/apps/classes/1063535/assignments/#hw-11762499'>Read mo
 re</a>
URL:https://ahs.alcoaschools.net/apps/classes/1063535/assignments/#hw-11762
 499
ORGANIZER;CN="Edlio Calendar":MAILTO:noreply@ahs.alcoaschools.net
DTSTAMP:20260423T041231Z
END:VEVENT
BEGIN:VEVENT
UID:11762500@ahs.alcoaschools.net#20260423
SEQUENCE:0
CREATED:20260421T104332Z
LAST-MODIFIED:20260421T104332Z
DTSTART;TZID=US/Eastern:20260423T075900
DTEND;TZID=US/Eastern:20260423T080000
SUMMARY:Assignment: Wave Section 10
DESCRIPTION:Upload work / answers to section 10  here.\n<a href=' https://a
 hs.alcoaschools.net/apps/classes/1063535/assignments/#hw-11762500'>Read mo
 re</a>
URL:https://ahs.alcoaschools.net/apps/classes/1063535/assignments/#hw-11762
 500
ORGANIZER;CN="Edlio Calendar":MAILTO:noreply@ahs.alcoaschools.net
DTSTAMP:20260423T041231Z
END:VEVENT
BEGIN:VEVENT
UID:11762501@ahs.alcoaschools.net#20260423
SEQUENCE:0
CREATED:20260421T104332Z
LAST-MODIFIED:20260421T104332Z
DTSTART;TZID=US/Eastern:20260423T075900
DTEND;TZID=US/Eastern:20260423T080000
SUMMARY:Assignment: Wave Section 10
DESCRIPTION:Upload work / answers to section 10  here.\n<a href=' https://a
 hs.alcoaschools.net/apps/classes/1063535/assignments/#hw-11762501'>Read mo
 re</a>
URL:https://ahs.alcoaschools.net/apps/classes/1063535/assignments/#hw-11762
 501
ORGANIZER;CN="Edlio Calendar":MAILTO:noreply@ahs.alcoaschools.net
DTSTAMP:20260423T041231Z
END:VEVENT
BEGIN:VEVENT
UID:11762502@ahs.alcoaschools.net#20260423
SEQUENCE:0
CREATED:20260421T104332Z
LAST-MODIFIED:20260421T104332Z
DTSTART;TZID=US/Eastern:20260423T075900
DTEND;TZID=US/Eastern:20260423T080000
SUMMARY:Assignment: Wave Section 10
DESCRIPTION:Upload work / answers to section 10  here.\n<a href=' https://a
 hs.alcoaschools.net/apps/classes/1063535/assignments/#hw-11762502'>Read mo
 re</a>
URL:https://ahs.alcoaschools.net/apps/classes/1063535/assignments/#hw-11762
 502
ORGANIZER;CN="Edlio Calendar":MAILTO:noreply@ahs.alcoaschools.net
DTSTAMP:20260423T041231Z
END:VEVENT
BEGIN:VEVENT
UID:11762487@ahs.alcoaschools.net#20260427
SEQUENCE:0
CREATED:20260421T104332Z
LAST-MODIFIED:20260421T104332Z
DTSTART;TZID=US/Eastern:20260427T235800
DTEND;TZID=US/Eastern:20260427T235900
SUMMARY:Assignment: Wave Research 1 of 3
DESCRIPTION:During the next few days\, you will be completing a series of i
 ndependent research projects / assignments on waves and sound. All three s
 ub-parts will be worth a project grade. <br><br>All three subparts will be
  due by Monday\, April 27th at 11:59 PM. You will NOT be able to turn this
  assignment in \n<a href=' https://ahs.alcoaschools.net/apps/classes/10635
 35/assignments/#hw-11762487'>Read more</a>
URL:https://ahs.alcoaschools.net/apps/classes/1063535/assignments/#hw-11762
 487
ORGANIZER;CN="Edlio Calendar":MAILTO:noreply@ahs.alcoaschools.net
DTSTAMP:20260423T041231Z
END:VEVENT
BEGIN:VEVENT
UID:11762488@ahs.alcoaschools.net#20260427
SEQUENCE:0
CREATED:20260421T104332Z
LAST-MODIFIED:20260421T104332Z
DTSTART;TZID=US/Eastern:20260427T235800
DTEND;TZID=US/Eastern:20260427T235900
SUMMARY:Assignment: Wave Research 1 of 3
DESCRIPTION:During the next few days\, you will be completing a series of i
 ndependent research projects / assignments on waves and sound. All three s
 ub-parts will be worth a project grade. <br><br>All three subparts will be
  due by Monday\, April 27th at 11:59 PM. You will NOT be able to turn this
  assignment in \n<a href=' https://ahs.alcoaschools.net/apps/classes/10635
 35/assignments/#hw-11762488'>Read more</a>
URL:https://ahs.alcoaschools.net/apps/classes/1063535/assignments/#hw-11762
 488
ORGANIZER;CN="Edlio Calendar":MAILTO:noreply@ahs.alcoaschools.net
DTSTAMP:20260423T041231Z
END:VEVENT
BEGIN:VEVENT
UID:11762489@ahs.alcoaschools.net#20260427
SEQUENCE:0
CREATED:20260421T104332Z
LAST-MODIFIED:20260421T104332Z
DTSTART;TZID=US/Eastern:20260427T235800
DTEND;TZID=US/Eastern:20260427T235900
SUMMARY:Assignment: Wave Research 1 of 3
DESCRIPTION:During the next few days\, you will be completing a series of i
 ndependent research projects / assignments on waves and sound. All three s
 ub-parts will be worth a project grade. <br><br>All three subparts will be
  due by Monday\, April 27th at 11:59 PM. You will NOT be able to turn this
  assignment in \n<a href=' https://ahs.alcoaschools.net/apps/classes/10635
 35/assignments/#hw-11762489'>Read more</a>
URL:https://ahs.alcoaschools.net/apps/classes/1063535/assignments/#hw-11762
 489
ORGANIZER;CN="Edlio Calendar":MAILTO:noreply@ahs.alcoaschools.net
DTSTAMP:20260423T041231Z
END:VEVENT
BEGIN:VEVENT
UID:11762490@ahs.alcoaschools.net#20260427
SEQUENCE:0
CREATED:20260421T104332Z
LAST-MODIFIED:20260421T104332Z
DTSTART;TZID=US/Eastern:20260427T235800
DTEND;TZID=US/Eastern:20260427T235900
SUMMARY:Assignment: Wave Research 1 of 3
DESCRIPTION:During the next few days\, you will be completing a series of i
 ndependent research projects / assignments on waves and sound. All three s
 ub-parts will be worth a project grade. <br><br>All three subparts will be
  due by Monday\, April 27th at 11:59 PM. You will NOT be able to turn this
  assignment in \n<a href=' https://ahs.alcoaschools.net/apps/classes/10635
 35/assignments/#hw-11762490'>Read more</a>
URL:https://ahs.alcoaschools.net/apps/classes/1063535/assignments/#hw-11762
 490
ORGANIZER;CN="Edlio Calendar":MAILTO:noreply@ahs.alcoaschools.net
DTSTAMP:20260423T041231Z
END:VEVENT
END:VCALENDAR
